Workbook
Name SegmentaciónDeDatos_establecimiento: #N/A
Name SegmentaciónDeDatos_establecimiento_provincia: #N/A
Name SegmentaciónDeDatos_establecimiento_region: #N/A
Name SegmentaciónDeDatos_Periodo_anio: #N/A
Name SegmentaciónDeDatos_Periodo_mes: #N/A
Name SegmentaciónDeDatos_Semestre: #N/A
Name SegmentaciónDeDatos_srs_validado: #N/A
Name SegmentaciónDeDatos_Trimestre: #N/A

Sheet Reordenamiento Catalogos
B5: iditem | C5: item | D5: idGrupo | E5: orden
B6: 17 | C6: Medicina General | D6: CE | E6: 1
B7: 30 | C7: Pediatría | D7: CE | E7: 2
B8: 24 | C8: Obstetricia | D8: CE | E8: 3
B9: 12 | C9: Ginecología | D9: CE | E9: 4
B10: 16 | C10: Medicina Familiar | D10: CE | E10: 5
B11: 28 | C11: Ortopedia | D11: CE | E11: 6
B12: 1 | C12: Cardiología | D12: CE | E12: 7
B13: 6 | C13: Consejería | D13: CE | E13: 8
B14: 25 | C14: Odontología | D14: CE | E14: 9
B15: 18 | C15: Medicina Interna | D15: CE | E15: 10
B16: 26 | C16: Oftalmología | D16: CE | E16: 11
B17: 10 | C17: Gastroenterología | D17: CE | E17: 12
... B43: 38 | C43: Otras Consultas | D43: CE | E43: 38
B48: iditem | C48: item | D48: idGrupo | E48: orden
B49: 39 | C49: General | D49: PQ | E49: 1
B50: 49 | C50: Odontología | D50: PQ | E50: 2
B51: 42 | C51: Oftalmología | D51: PQ | E51: 3
B52: 40 | C52: Ortopedia | D52: PQ | E52: 4
B53: 47 | C53: Ginecología | D53: PQ | E53: 5
B54: 48 | C54: Obstetricia | D54: PQ | E54: 6
B55: 53 | C55: Cirugías Pediátricas | D55: PQ | E55: 7
B56: 43 | C56: Urología | D56: PQ | E56: 8
B57: 54 | C57: Cirugía Maxilofacial - Salud Bucal | D57: PQ | E57: 9
B58: 55 | C58: Cirugía de Reducción - Salud Bucal | D58: PQ | E58: 10
B59: 56 | C59: Cirugía Plástica | D59: PQ | E59: 11
B60: 52 | C60: Reconstructivas no Estéticas | D60: PQ | E60: 12
... B67: 57 | C67: Otros procedimientos quirurgicos | D67: PQ | E67: 19
B70: iditem | C70: item | D70: idGrupo | E70: orden
B71: 79 | C71: Broncoscopía | D71: 79 | E71: 1
B72: 80 | C72: Cistoscopía | D72: 80 | E72: 2
B73: 81 | C73: Colposcopía | D73: 81 | E73: 3
B74: 82 | C74: Ecografía | D74: 82 | E74: 4
B75: 83 | C75: Electrocardiograma | D75: 83 | E75: 5
B76: 84 | C76: Electroencefalografía | D76: 84 | E76: 6
B77: 85 | C77: Endoscopías Aparato Respiratorio | D77: 85 | E77: 7
B78: 86 | C78: Endoscopías Gástrica | D78: 86 | E78: 8
B79: 87 | C79: Espirometría | D79: 87 | E79: 9
B80: 88 | C80: Fluoroscopía | D80: 88 | E80: 10
B81: 89 | C81: Gammagrafía | D81: 89 | E81: 11
B82: 90 | C82: Laparoscopía | D82: 90 | E82: 12
... B92: 100 | C92: ERCP | D92: 100 | E92: 22
B96: iditem | C96: item | D96: idGrupo | E96: orden
B97: 93 | C97: Radiografía | D97: SI | E97: 1
B98: 96 | C98: Sonografía | D98: SI | E98: 2
B99: 83 | C99: Electrocardiograma | D99: SI | E99: 3
B100: 98 | C100: Tomografía | D100: SI | E100: 4
B101: 86 | C101: Endoscopías Gástrica | D101: SI | E101: 5
B102: 82 | C102: Ecografía | D102: SI | E102: 6
B103: 95 | C103: Resonancia Magnética | D103: SI | E103: 7
B104: 97 | C104: Sonomamografía | D104: SI | E104: 8
B105: 80 | C105: Cistoscopía | D105: SI | E105: 9
B106: 84 | C106: Electroencefalografía | D106: SI | E106: 10
B107: 91 | C107: Mamografía | D107: SI | E107: 11
B108: 87 | C108: Espirometría | D108: SI | E108: 12
... B119: 157 | C119: Otros servicios de imágenes | D119: SI | E119: 24

Sheet Tablero de Mando
C2: Servicio Nacional de Salud
C3: Dirección de Gestión de la Información
C4: Reportes de Producción de Servicios en Nivel Complementario
C5: 1er. Trimestre 2018
B7: Monitoreo de avances en Producción de Servicios del Nivel Especializado para reporte al Plan Nacional Plurianual del Sector Público.
B9: Tabla 1 - Distribución de producción de servicios por meses según tipos
C11: Periodo_anio | D11: Trimestre | E11: Mes
C12: 2019 | D12: 2019 | E12: 2019
C13: T1 | D13: T1 | E13: T1
B14: PNPSP | C14: 1 | D14: 2 | E14: 3
B15: Total de Consultas | C15: 499200 | D15: 604115 | E15: 582481
B16: Total de Emergencias | C16: 387521 | D16: 378820 | E16: 364353
B17: Pruebas de Laboratorio | C17: 1250318 | D17: 1391686 | E17: 1418639
B18: Pruebas de Imagenes | C18: 183677 | D18: 209322 | E18: 204132
B19: Total de Hospitalizaciones | C19: 34414 | D19: 35353 | E19: 34894
B20: Total procedimientos quirúrgicos | C20: 24824 | D20: 28338 | E20: 28247
B21: Total partos vaginales | C21: 5435 | D21: 4847 | E21: 4370
B22: Total partos por cesareas | C22: 4578 | D22: 4532 | E22: 3848
C26: Periodo_anio | D26: Trimestre | E26: Mes
C27: 2019 | D27: 2019 | E27: 2019
C28: T1 | D28: T1 | E28: T1
B29: Atenciones Población General | C29: 1 | D29: 2 | E29: 3
B30: Total de Consultas | C30: 499200 | D30: 604115 | E30: 582481
B31: Total de Emergencias | C31: 387521 | D31: 378820 | E31: 364353
B32: Pruebas de Laboratorio | C32: 1250318 | D32: 1391686 | E32: 1418639
B33: Pruebas de Imagenes | C33: 183677 | D33: 209322 | E33: 204132
B34: Total de Hospitalizaciones | C34: 34414 | D34: 35353 | E34: 34894
B35: Total procedimientos quirúrgicos | C35: 24824 | D35: 28338 | E35: 28247
B36: Total partos vaginales | C36: 5435 | D36: 4847 | E36: 4370
B37: Total partos por cesareas | C37: 4578 | D37: 4532 | E37: 3848
C43: Periodo_anio | D43: Trimestre | E43: Mes
C44: 2019 | D44: 2019 | E44: 2019
C45: T1 | D45: T1 | E45: T1
B46: Atenciones a Extranjeros | C46: 1 | D46: 2 | E46: 3
B47: Total de Consultas | C47: 499200 | D47: 604115 | E47: 582481
B48: Total de Emergencias | C48: 387521 | D48: 378820 | E48: 364353
B49: Pruebas de Laboratorio | C49: 1250318 | D49: 1391686 | E49: 1418639
B50: Pruebas de Imagenes | C50: 183677 | D50: 209322 | E50: 204132
B51: Total de Hospitalizaciones | C51: 34414 | D51: 35353 | E51: 34894
B52: Total procedimientos quirúrgicos | C52: 24824 | D52: 28338 | E52: 28247
B53: Total partos vaginales | C53: 5435 | D53: 4847 | E53: 4370
B54: Total partos por cesareas | C54: 4578 | D54: 4532 | E54: 3848

Sheet Cobertura
C1: Servicio Nacional de Salud | N1: Mes | O1: Fecha Máxima de Reporte
C2: Dirección de Gestión de la Información | N2: 1 | O2: 43503
C3: Reportes de Producción de Servicios en Nivel Complementario | N3: 2 | O3: 43531
C4: Informe de Cobertura y Oportunidad de Reportes | E4: Fecha Máxima de Reporte: | F4: 43503 | N4: 3 | O4: 43562
E5: Total de EESS Notificadores: | F5: =COUNTA($C$11:$C$195) -> 0 | N5: 4 | O5: 43592
E6: Reportes No Validados: | F6: =COUNTIF($F$11:$F$195,"(en blanco)") -> 0 | N6: 5 | O6: 43623
B7: Periodo_anio | C7: 2019 | E7: Cobertura: | F7: =(F5-F6)/F5 -> #DIV/0! | N7: 6 | O7: 43653
B8: Periodo_mes | C8: 1 | E8: Oportunidad: | F8: =($F$5-COUNTIF($G$11:$G$195,"Tardío"))/$F$5 -> #DIV/0! | N8: 7 | O8: 43684
N9: 8 | O9: 43715
B10: Región | C10: establecimiento | D10: Fecha en que inició el reporte | E10: Fecha en que finalizó el reporte | F10: Fecha de validación por el SRS | G10: Oportunidad | H10: Resumen de eventualidades | N10: 9 | O10: 43745
G11: =IF(F11="(en blanco)","",IF(F11>$F$4,"Tardío","Oportuno")) -> Oportuno | N11: 10 | O11: 43776
G12: =IF(F12="(en blanco)","",IF(F12>$F$4,"Tardío","Oportuno")) -> Oportuno | N12: 11 | O12: 43806
G13: =IF(F13="(en blanco)","",IF(F13>$F$4,"Tardío","Oportuno")) -> Oportuno | N13: 12 | O13: 43837
G14: =IF(F14="(en blanco)","",IF(F14>$F$4,"Tardío","Oportuno")) -> Oportuno
G15: =IF(F15="(en blanco)","",IF(F15>$F$4,"Tardío","Oportuno")) -> Oportuno
G16: =IF(F16="(en blanco)","",IF(F16>$F$4,"Tardío","Oportuno")) -> Oportuno
G17: =IF(F17="(en blanco)","",IF(F17>$F$4,"Tardío","Oportuno")) -> Oportuno
G18: =IF(F18="(en blanco)","",IF(F18>$F$4,"Tardío","Oportuno")) -> Oportuno
G19: =IF(F19="(en blanco)","",IF(F19>$F$4,"Tardío","Oportuno")) -> Oportuno
G20: =IF(F20="(en blanco)","",IF(F20>$F$4,"Tardío","Oportuno")) -> Oportuno
G21: =IF(F21="(en blanco)","",IF(F21>$F$4,"Tardío","Oportuno")) -> Oportuno
G22: =IF(F22="(en blanco)","",IF(F22>$F$4,"Tardío","Oportuno")) -> Oportuno
G23: =IF(F23="(en blanco)","",IF(F23>$F$4,"Tardío","Oportuno")) -> Oportuno
G24: =IF(F24="(en blanco)","",IF(F24>$F$4,"Tardío","Oportuno")) -> Oportuno
G25: =IF(F25="(en blanco)","",IF(F25>$F$4,"Tardío","Oportuno")) -> Oportuno
... G195: =IF(F195="(en blanco)","",IF(F195>$F$4,"Tardío","Oportuno")) -> Oportuno

Sheet Instrucciones y notas
F2: Servicio Nacional de Salud
F3: Dirección de Gestión de la Información
F4: Reportes de Producción de Servicios Nivel Complementario
B7: Instrucciones: | C7: 1 | D7: Utilice los filtros de la pestaña de "Filtros" y el mismo se aplicará en todas las matrices o pestañas en las diferentes pestañas del documento. Ej: Si se requiere ver la información de una provincia en el filtro "Provincia" y todos los datos mostrados a continuación serán los referidos a esa provincia.
C8: 2 | D8: Para seleccionar mas de una una opcion dentro de un filtro, debe pulsar la tecla "Alt" y luego hacer clic sobre la opcion adicional que deseo seleccionar.
C9: 3 | D9: Para eliminar un filtro, debe hacer clic sobre el icono de filtro con la equis roja (X), y se desactivará el filtro.
C10: 4 | D10: La tabla resumen general incluye atenciones a pacientes dominicanos y extranjeros.
C11: 5 | D11: La tabla resumen pacientes extranjeros incluye las atenciones solo realizadas a pacientes extranjeros. (Haitianos y otras nacionalidades).
C12: 6 | D12: En la pestaña de hospitalización sólo se muestra los ingresos totales, egresos por motivo de egreso (Alta o defunción) y el total de egresos generales.
B14: Notas: | C14: 1 | D14: Este documento está conectado a la Base de Datos de Producción de Servicios del Nivel Especializado (67A), los datos mostrados en el mismo han agotado un proceso de validación que abarca controles internos del sistema y verificaciones y validaciones por parte de las Gerencias de Areas, los SRS y Auditoría de Calidad del Dato del SNS.
C15: 2 | D15: En las tablas disponibles en cada hoja, mostramos básicamente las información consolidada por cada establecimiento, con las desagregaciones establecidas para cada caso.
C16: 3 | D16: Se requiere de conocimiento mínimo en el uso y/o manejo de Tablas Dinámicas para sacar mayor provecho al mismo.
C17: 4 | D17: De 187 Hospitales a nivel nacional, 2 hospitales no son tomados en cuenta para medición de cobertura: Hospital Luis Eduardo Aybar de R0, está en recosntrucción y Leprocomio Nuestra Sra. De Las Mercedes de R1, considerado casa de acogida.

Sheet Filtros
E2: Servicio Nacional de Salud | AI2: Meses | AJ2: =_xlfn.CONCAT(AJ5,AL5,AJ6,AL6,AJ7,AL7,AJ8,AL8,AJ9,AL9,AJ10,AL10,AJ11,AL11,AJ12,AL12,AJ13,AL13,AJ14,AL14,AJ15,AL15,AJ16,AL16) -> #NAME? | AN2: Años | AO2: =_xlfn.CONCAT(AN5,AP6,AN6,AP7,AN7) -> #NAME?
E3: Dirección de Gestión de la Información
E4: Reportes de Producción de Servicios Nivel Complementario | AG4: . | AI4: Periodo_anio | AJ4: Periodo_mes | AK4: Recuento de Establecimientos | AN4: Periodo_anio | AO4: Recuento de Establecimientos
AG5: . | AH5: 1 | AL5: =IF(AJ6="","",", ") | AP5: =IF(AN6="","",", ")
AG6: . | AH6: 2 | AL6: =IF(AJ7="","",", ") | AP6: =IF(AN7="","",", ")
B7: Instrucciones: | C7: Utilice los filtros de la pestaña de "Filtros" y el mismo se aplicará en todas las matrices o pestañas en las diferentes pestañas del documento. Ej: Si se requiere ver la información de una provincia en el filtro "Provincia" y todos los datos mostrados a continuación serán los referidos a esa provincia. | AG7: . | AH7: 3 | AL7: =IF(AJ8="","",", ") | AP7: =IF(AN8="","",", ")
C8: Para seleccionar más de una una opcion dentro de un filtro, debe pulsar la tecla "Alt" y luego hacer clic sobre la opcion adicional que deseo seleccionar. | AG8: . | AH8: 4 | AL8: =IF(AJ9="","",", ") | AP8: =IF(AN9="","",", ")
C9: Para eliminar un filtro, debe hacer clic sobre el icono de filtro con la equis roja (X), y se desactivará el filtro. | AH9: 5 | AL9: =IF(AJ10="","",", ")
AG10: . | AH10: 6 | AL10: =IF(AJ11="","",", ")
AG11: . | AH11: 7 | AL11: =IF(AJ12="","",", ")
AG12: . | AH12: 8 | AL12: =IF(AJ13="","",", ")
AH13: 9 | AL13: =IF(AJ14="","",", ")
AH14: 10 | AL14: =IF(AJ15="","",", ")
AH15: 11 | AL15: =IF(AJ16="","",", ")
AH16: 12 | AL16: =IF(AJ17="","",", ")

Sheet Matrices reportadas x Hospital
C2: Matriz para dar seguimiento a las matrices cargadas por los hospitales en cada mes
B3: Notas:
C4: Los valores mostrados en las columnas correspondientes a las diferentes matrices, indican la existencia de datos en las mismas
E8: Periodo_mes
B9: Región | C9: Hospital | D9: Matrices

Sheet Tabla resumen general
D2: Servicio Nacional de Salud
D3: Dirección de Gestión de la Información
D4: Reportes de Producción de Servicios en Nivel Complementario
D6: Resumen de producción de servicios
B8: Regiones | C8: Provincias | D8: establecimiento | E8: Trimestre | F8: Total de Consultas | G8: Total de Emergencias | H8: Pruebas de Laboratorio | I8: Pruebas de Imagenes | J8: Total de Hospitalizaciones | K8: Total procedimientos quirúrgicos | L8: Total partos vaginales | M8: Total partos por cesareas

Sheet Consultas totales X EESS
C2: Servicio Nacional de Salud | G2: Años: | H2: =Filtros!$AO$2 -> #NAME?
C3: Dirección de Gestión de la Información | G3: Meses: | H3: =Filtros!$AJ$2 -> #NAME?
C4: Reportes de Producción de Servicios Nivel Complementario
B7: "Distribución de consultas realizados por establecimientos
B9: Regiones | C9: Provincias | D9: Establecimientos | E9: Consultas de Primera Vez | F9: Consultas Subsecuentes | G9: Total Consultas | H9: Afiliados a SENASA | I9: Afiliados Otras ARS | J9: Total Afiliados | K9: Total No Afiliados | L9: Dominicanos | M9: Haitianos | N9: Otras Nacionalidades | O9: Total Nacionalidades | P9: Masculinos | Q9: Femeninos | R9: Total Sexo

Sheet Consultas x Servicios
D2: Servicio Nacional de Salud
D3: Dirección de Gestión de la Información
D4: Reportes de Producción de Servicios Nivel Complementario
B6: Distribución de Consultas por Trimestres
B8: Total Consultas | D8: Periodo_anio | E8: Trimestre | F8: Periodo_mes
B11: Regiones | C11: Servicio

Sheet Emergencias
D2: Servicio Nacional de Salud | G2: Años: | H2: =Filtros!$AO$2 -> #NAME?
D3: Dirección de Gestión de la Información | G3: Meses: | H3: =Filtros!$AJ$2 -> #NAME?
D4: Reportes de Producción de Servicios Nivel Complementario
B7: Distribución de servicios de emergencias atendidas por establecimientos
B9: Regiones | C9: Provincias | D9: Establecimientos | E9: Ingreso 911 | F9: Propios medios | G9: Referido de otro eess | H9: Otros medios | I9: Total Ingresos | J9: RD. | K9: Haití | L9: Otras Nac | M9: Total Nacionalidades | N9: Masculino | O9: Femenino | P9: Total Sexos | Q9: Altas medica | R9: Altas peticion | S9: Por Fugas | T9: Hospitalización | U9: Referido a otro EESS | V9: Defunción | W9: Total Egresos | Y9: Alerta | Z9: Diferencia
Y10: =IF(AND(X10="",Q10=""),"",IF(AND(X10=0,Q10=0),"NR",IF(X10<>Q10,"Revisar","Ok"))) | Z10: =IF(Y10="Revisar",Q10-X10,"")
Y11: =IF(AND(X11="",Q11=""),"",IF(AND(X11=0,Q11=0),"NR",IF(X11<>Q11,"Revisar","Ok"))) | Z11: =IF(Y11="Revisar",Q11-X11,"")
Y12: =IF(AND(X12="",Q12=""),"",IF(AND(X12=0,Q12=0),"NR",IF(X12<>Q12,"Revisar","Ok"))) | Z12: =IF(Y12="Revisar",Q12-X12,"")
Y13: =IF(AND(X13="",Q13=""),"",IF(AND(X13=0,Q13=0),"NR",IF(X13<>Q13,"Revisar","Ok"))) | Z13: =IF(Y13="Revisar",Q13-X13,"")
Y14: =IF(AND(X14="",Q14=""),"",IF(AND(X14=0,Q14=0),"NR",IF(X14<>Q14,"Revisar","Ok"))) | Z14: =IF(Y14="Revisar",Q14-X14,"")
Y15: =IF(AND(X15="",Q15=""),"",IF(AND(X15=0,Q15=0),"NR",IF(X15<>Q15,"Revisar","Ok"))) | Z15: =IF(Y15="Revisar",Q15-X15,"")
Y16: =IF(AND(X16="",Q16=""),"",IF(AND(X16=0,Q16=0),"NR",IF(X16<>Q16,"Revisar","Ok"))) | Z16: =IF(Y16="Revisar",Q16-X16,"")
Y17: =IF(AND(X17="",Q17=""),"",IF(AND(X17=0,Q17=0),"NR",IF(X17<>Q17,"Revisar","Ok"))) | Z17: =IF(Y17="Revisar",Q17-X17,"")
Y18: =IF(AND(X18="",Q18=""),"",IF(AND(X18=0,Q18=0),"NR",IF(X18<>Q18,"Revisar","Ok"))) | Z18: =IF(Y18="Revisar",Q18-X18,"")
Y19: =IF(AND(X19="",Q19=""),"",IF(AND(X19=0,Q19=0),"NR",IF(X19<>Q19,"Revisar","Ok"))) | Z19: =IF(Y19="Revisar",Q19-X19,"")
Y20: =IF(AND(X20="",Q20=""),"",IF(AND(X20=0,Q20=0),"NR",IF(X20<>Q20,"Revisar","Ok"))) | Z20: =IF(Y20="Revisar",Q20-X20,"")
Y21: =IF(AND(X21="",Q21=""),"",IF(AND(X21=0,Q21=0),"NR",IF(X21<>Q21,"Revisar","Ok"))) | Z21: =IF(Y21="Revisar",Q21-X21,"")
... Y263: =IF(AND(X263="",Q263=""),"",IF(AND(X263=0,Q263=0),"NR",IF(X263<>Q263,"Revisar","Ok"))) | Z263: =IF(Y263="Revisar",Q263-X263,"")

Sheet Procedimientos Quirúrgicos
D2: Servicio Nacional de Salud | G2: Años: | H2: =Filtros!$AO$2 -> #NAME?
D3: Dirección de Gestión de la Información | G3: Meses: | H3: =Filtros!$AJ$2 -> #NAME?
D4: Reportes de Producción de Servicios Nivel Complementario
B6: Distribución de servicios de procedimientos quirúrgicos realizados por Establecimientos
B8: Rgiones | C8: Provincias | D8: Establecimientos | E8: Cirugía Mayor | F8: Cirugií Menor | G8: Total de Cirugías | H8: Afiliados SENASA | I8: Afiliados a otras ARS | J8: Total Afiliados | K8: Total No Afiliados | L8: Dominicanos | M8: Haitianos | N8: Otras Nacionalidades | O8: Total Nacionalidades | P8: Masculinos | Q8: Femeninos | R8: Total Sexo

Sheet PQ x Especialidad
C2: Servicio Nacional de Salud
C3: Dirección de Gestión de la Información
C4: Reportes de Producción de Servicios Nivel Complementario
B6: Distribución de servicios de procedimientos realizados por Especialidad
B8: Cirugías | D8: Periodo_anio | E8: Trimestre | F8: Periodo_mes
B11: Región | C11: Especialidades

Sheet Laboratorios
D2: Servicio Nacional de Salud | G2: Años: | H2: =Filtros!$AO$2 -> #NAME?
D3: Dirección de Gestión de la Información | G3: Meses: | H3: =Filtros!$AJ$2 -> #NAME?
D4: Reportes de Producción de Servicios Nivel Complementario
B8: Distribución de servicios de laboratorios realizados establecimientos
B10: Regiones | C10: Provincias | D10: Establecimientos | E10: Ambulatorios | F10: Hospitalizados | G10: Emergencias | H10: Total Pruebas | I10: Afiliados SENASA | J10: Afiliados Otras ARS | K10: Total Asegurados | L10: No Asegurados | M10: Dominicanos | N10: Haitianos | O10: Otras Nacionalidades | P10: Total Nacionalidades | Q10: Masculinos | R10: Femeninos | S10: Total Sexo

Sheet Imágenes
D2: Servicio Nacional de Salud | G2: Años: | H2: =Filtros!$AO$2 -> #NAME?
D3: Dirección de Gestión de la Información | G3: Meses: | H3: =Filtros!$AJ$2 -> #NAME?
D4: Reportes de Producción de Servicios Nivel Complementario
B8: Distribución de servicios de imágenes realizados por meses
B10: Regiones | C10: Provincias | D10: Establecimientos | E10: Ambulatorios | F10: Hospitalizados | G10: Emergencias | H10: Total Imágenes | I10: Afiliados SENASA | J10: Afiliados Otras ARS | K10: Total Asegurados | L10: No Asegurados | M10: Dominicanos | N10: Haitianos | O10: Otras Nacionalidades | P10: Total Nacionalidades | Q10: Masculinos | R10: Femeninos | S10: Total Sexo

Sheet Partos x Tipo
D2: Servicio Nacional de Salud | G2: Años: | H2: =Filtros!$AO$2 -> #NAME?
D3: Dirección de Gestión de la Información | G3: Meses: | H3: =Filtros!$AJ$2 -> #NAME?
D4: Reportes de Producción de Servicios Nivel Complementario
B7: Distribución de Partos por grupos estarios de las madres y vía de desaembarazo y nacionalidades
B10: Regiones | C10: Provincias | D10: Grupos de Edades | E10: Partos vía Vaginal a Dominicanas | F10: Partos vía Cesárea a Dominicanas | G10: Total de Partos a Dominicanas | H10: Partos vía Vaginal a Haitianas | I10: Partos vía Cesárea a Haitianas | J10: Total Partos a Haitianas | K10: Partos vía Vaginal a Otras Nacionalidades | L10: Partos vía Cesarea a Otras Nacionalidades | M10: Total Partos a Otras Nacionalidades | N10: Total de partos y cesareas

Sheet Nacimientos
D2: Servicio Nacional de Salud | G2: Años: | H2: =Filtros!$AO$2 -> #NAME?
D3: Dirección de Gestión de la Información | G3: Meses: | H3: =Filtros!$AJ$2 -> #NAME?
D4: Reportes de Producción de Servicios Nivel Complementario
B7: Distribución de Nacimientos por
B9: Regiones | C9: Provincias | D9: Servicio | E9: Nacidos Vivos | F9: Nacidos muertos | G9: Total Nacimientos | H9: Bajo peso | I9: Abortos | J9: Prematuros | K9: Malformación | L9: Gemelares | M9: Partos Multiples (> 2)

Sheet Hospitalizaciones
C2: Servicio Nacional de Salud | G2: Años: | H2: =Filtros!$AO$2 -> #NAME?
C3: Dirección de Gestión de la Información | G3: Meses: | H3: =Filtros!$AJ$2 -> #NAME?
C4: Reportes de Producción de Servicios Nivel Complementario
B7: Distribución de Servicios de Hospitalizaciones por Establecimientos
B10: establecimiento_region | C10: establecimiento_provincia | D10: establecimiento | E10: Total de Ingresos | F10: Egresos Defunciones | G10: Egresos por Altas | H10: Total de Egresos (Hospitalizaciones)

Sheet Hosp x Especialidades
C2: Servicio Nacional de Salud
C3: Dirección de Gestión de la Información
C4: Reportes de Producción de Servicios Nivel Complementario
B7: Distribución de Servicios de Hospitalizaciones por Especialidades
B10: Total de Egresos (Hospitalizaciones) | D10: Trimestre | E10: Periodo_mes
B12: establecimiento_region | C12: Especialidades

Sheet Odontologia
C2: Servicio Nacional de Salud | G2: Años: | H2: =Filtros!$AO$2 -> #NAME?
C3: Dirección de Gestión de la Información | G3: Meses: | H3: =Filtros!$AJ$2 -> #NAME?
C4: Reportes de Producción de Servicios Nivel Complementario
B6: Distribución de Servicios de Odontologia por Establecimientos
B8: Servicios | E8: Servicio
B9: establecimiento_region | C9: establecimiento_provincia | D9: establecimiento

Sheet Odontologia x Meses
C2: Servicio Nacional de Salud
C3: Dirección de Gestión de la Información
C4: Reportes de Producción de Servicios Nivel Complementario
B6: Distribución de Servicios de Odontologia por Establecimientos
B8: Servicios | D8: Periodo_anio | E8: Trimestre | F8: Periodo_mes
D9: 2019 | E9: 2019 | F9: 2019 | G9: 2019 | H9: Total 2019
D10: T1 | E10: T1 | F10: T1 | G10: Total T1
B11: establecimiento_region | C11: Servicio | D11: 1 | E11: 2 | F11: 3
B12: REGION 0 | C12: Cirugías | D12: 1681 | E12: 1230 | F12: 1778 | G12: 4689 | H12: 4689
B13: REGION 0 | C13: Rehabilitaciones | D13: 638 | E13: 776 | F13: 1132 | G13: 2546 | H13: 2546
B14: REGION 0 | C14: Tratamientos correctivos | D14: 2775 | E14: 4288 | F14: 3716 | G14: 10779 | H14: 10779
B15: REGION 0 | C15: Tratamientos preventivos | D15: 3439 | E15: 4225 | F15: 6746 | G15: 14410 | H15: 14410
B16: Total REGION 0 | D16: 8533 | E16: 10519 | F16: 13372 | G16: 32424 | H16: 32424
B18: REGION 1 | C18: Cirugías | D18: 321 | E18: 758 | F18: 784 | G18: 1863 | H18: 1863
B19: REGION 1 | C19: Rehabilitaciones | D19: 103 | E19: 165 | F19: 125 | G19: 393 | H19: 393
B20: REGION 1 | C20: Tratamientos correctivos | D20: 226 | E20: 214 | F20: 258 | G20: 698 | H20: 698
B21: REGION 1 | C21: Tratamientos preventivos | D21: 849 | E21: 1134 | F21: 1269 | G21: 3252 | H21: 3252
B22: Total REGION 1 | D22: 1499 | E22: 2271 | F22: 2436 | G22: 6206 | H22: 6206
B24: REGION 2 | C24: Cirugías | D24: 1072 | E24: 1522 | F24: 1526 | G24: 4120 | H24: 4120
B25: REGION 2 | C25: Rehabilitaciones | D25: 828 | E25: 1293 | F25: 1172 | G25: 3293 | H25: 3293
B26: REGION 2 | C26: Tratamientos correctivos | D26: 1215 | E26: 1863 | F26: 1584 | G26: 4662 | H26: 4662
B27: REGION 2 | C27: Tratamientos preventivos | D27: 1349 | E27: 2450 | F27: 2299 | G27: 6098 | H27: 6098
B28: Total REGION 2 | D28: 4464 | E28: 7128 | F28: 6581 | G28: 18173 | H28: 18173
B30: REGION 3 | C30: Cirugías | D30: 1765 | E30: 1605 | F30: 1732 | G30: 5102 | H30: 5102
B31: REGION 3 | C31: Rehabilitaciones | D31: 339 | E31: 525 | F31: 960 | G31: 1824 | H31: 1824
B32: REGION 3 | C32: Tratamientos correctivos | D32: 627 | E32: 906 | F32: 1439 | G32: 2972 | H32: 2972
B33: REGION 3 | C33: Tratamientos preventivos | D33: 2061 | E33: 2665 | F33: 4145 | G33: 8871 | H33: 8871
B34: Total REGION 3 | D34: 4792 | E34: 5701 | F34: 8276 | G34: 18769 | H34: 18769
B36: REGION 4 | C36: Cirugías | D36: 235 | E36: 411 | F36: 438 | G36: 1084 | H36: 1084
B37: REGION 4 | C37: Rehabilitaciones | D37: 0 | E37: 0 | F37: 6 | G37: 6 | H37: 6
B38: REGION 4 | C38: Tratamientos correctivos | D38: 75 | E38: 120 | F38: 136 | G38: 331 | H38: 331
B39: REGION 4 | C39: Tratamientos preventivos | D39: 260 | E39: 527 | F39: 453 | G39: 1240 | H39: 1240
B40: Total REGION 4 | D40: 570 | E40: 1058 | F40: 1033 | G40: 2661 | H40: 2661
B42: REGION 5 | C42: Cirugías | D42: 591 | E42: 914 | F42: 826 | G42: 2331 | H42: 2331
B43: REGION 5 | C43: Rehabilitaciones | D43: 193 | E43: 325 | F43: 592 | G43: 1110 | H43: 1110
B44: REGION 5 | C44: Tratamientos correctivos | D44: 388 | E44: 766 | F44: 446 | G44: 1600 | H44: 1600
B45: REGION 5 | C45: Tratamientos preventivos | D45: 759 | E45: 1186 | F45: 1232 | G45: 3177 | H45: 3177
B46: Total REGION 5 | D46: 1931 | E46: 3191 | F46: 3096 | G46: 8218 | H46: 8218
B48: REGION 6 | C48: Cirugías | D48: 492 | E48: 1008 | F48: 795 | G48: 2295 | H48: 2295
B49: REGION 6 | C49: Rehabilitaciones | D49: 6 | E49: 244 | F49: 179 | G49: 429 | H49: 429
B50: REGION 6 | C50: Tratamientos correctivos | D50: 91 | E50: 233 | F50: 538 | G50: 862 | H50: 862
B51: REGION 6 | C51: Tratamientos preventivos | D51: 719 | E51: 1516 | F51: 1557 | G51: 3792 | H51: 3792
B52: Total REGION 6 | D52: 1308 | E52: 3001 | F52: 3069 | G52: 7378 | H52: 7378
B54: REGION 7 | C54: Cirugías | D54: 444 | E54: 457 | F54: 425 | G54: 1326 | H54: 1326
B55: REGION 7 | C55: Rehabilitaciones | D55: 211 | E55: 250 | F55: 261 | G55: 722 | H55: 722
B56: REGION 7 | C56: Tratamientos correctivos | D56: 474 | E56: 384 | F56: 339 | G56: 1197 | H56: 1197
B57: REGION 7 | C57: Tratamientos preventivos | D57: 631 | E57: 712 | F57: 681 | G57: 2024 | H57: 2024
B58: Total REGION 7 | D58: 1760 | E58: 1803 | F58: 1706 | G58: 5269 | H58: 5269
B60: REGION 8 | C60: Cirugías | D60: 1028 | E60: 1422 | F60: 1020 | G60: 3470 | H60: 3470
B61: REGION 8 | C61: Rehabilitaciones | D61: 732 | E61: 858 | F61: 987 | G61: 2577 | H61: 2577
B62: REGION 8 | C62: Tratamientos correctivos | D62: 1062 | E62: 1630 | F62: 1100 | G62: 3792 | H62: 3792
B63: REGION 8 | C63: Tratamientos preventivos | D63: 2263 | E63: 2313 | F63: 1961 | G63: 6537 | H63: 6537
B64: Total REGION 8 | D64: 5085 | E64: 6223 | F64: 5068 | G64: 16376 | H64: 16376
B66: Total general | D66: 29942 | E66: 40895 | F66: 44637 | G66: 115474 | H66: 115474
