Workbook
Name Azua: Prov!$C$3:$C$12
Name Bahoruco: Prov!$C$13:$C$17
Name Barahona: Prov!$C$18:$C$28
Name CodigoActividad: Tabla2[Código]
Name Dajabon: Prov!$C$29:$C$33
Name Dajabón: Prov!$C$29:$C$33
Name Distrito_Nacional: Prov!$C$2
Name Duarte: Prov!$C$34:$C$40
Name El_Seibo: Prov!$C$41:$C$42
Name Elias_Pina: Prov!$C$43:$C$48
Name Elías_Piña: Prov!$C$43:$C$48
Name Espaillat: Prov!$C$49:$C$52
Name Hato_Mayor: Prov!$C$53:$C$55
Name Hermanas_Mirabal: Prov!$C$56:$C$58
Name Independencia: Prov!$C$59:$C$64
Name La_Altagracia: Prov!$C$65:$C$66
Name La_Romana: Prov!$C$67:$C$69
Name La_Vega: Prov!$C$70:$C$73
Name Le.1: Obj!$D$132:$D$141
Name Le.2: Obj!$D$142:$D$143
Name Le.3: Obj!$D$144:$D$146
Name Le.4: Obj!$D$147
Name ls_ComprayAlquiler: Catalogo!$G$33:$G$41
Name ls_Departamento: Catalogo!$D$36:$D$68
Name Ls_DepartamentosSRS: Catalogo!$G$130:$G$146
Name Ls_DependenciasSRS: Catalogo!$B$97:$B$102
Name ls_Direccion: Catalogo!$D$32:$D$33
Name Ls_DivisionesSRS: Catalogo!$E$105:$E$121
Name Ls_Estructura: Catalogo!$B$23:$B$28
Name Ls_GerenciasSRS: Catalogo!$E$124:$E$126
Name Ls_LinesEstategica: Obj!$B$6:$B$9
Name Ls_Medio_Verificacion: Catalogo!$B$152:$B$171
Name Ls_ObjEstrategico: Obj!$G$6:$G$21
Name Ls_Oficina: Catalogo!$D$87:$D$90
Name Ls_OficinasSRS: Catalogo!#REF!
Name ls_Regiones: Catalogo!$B$10:$B$19
Name ls_SubDireccion: Catalogo!$D$71:$D$80
Name ls_TiposAcciones: Catalogo!$G$11:$G$14
Name ls_UnidadesSRS: Catalogo!$B$105:$B$143
Name lsAcabadosTextiles: #REF!
Name lsAireAcondicionado: #REF!
Name lsAlimentosyBebidas: #REF!
Name lsArticulosdePlastico: #REF!
Name lsElectrodomesticos: #REF!
Name lsEquiposComputos: #REF!
Name lsEquiposMedicos: #REF!
Name lsEquiposSeguridad: #REF!
Name lsEquiposTransporte: #REF!
Name lsEventosGenerales: #REF!
Name lsFuentesFinanciamiento: LSIns!$F$5:$F$8
Name lsGasoil: #REF!
Name lsHerramientasMenores: #REF!
Name lsImpresionyEncuadernacion: #REF!
Name lsInsumos: LSIns!$B$5:$B$45
Name lsInsumosEquipos: LSIns!$F$16:$F$31
Name lsLlantasyNeumaticos: #REF!
Name lsMantenimiento: #REF!
Name lsMantenimientoyReparacion: Catalogo!$G$27:$G$30
Name lsMaterialesdeLimpieza: #REF!
Name lsMueblesdeAlojamiento: #REF!

Sheet Resumen
I1: Siglas Dependencias DC-SNS | K1: Siglas SRS
A2: Servicio Nacional de Salud | I2: Dirección Ejecutiva (DEJ) | K2: Servicio Regional de Salud Metropolitano (SRSM)
A3: Dirección de Planificación y Desarrollo | I3: Atención a Usuarios (DAU) | K3: Servicio Regional de Salud Valdesia (SRSV)
I4: Comité Etica Pública (CEP) | K4: Servicio Regional de Salud Norcentral (SRSNC)
A5: Cantidad acciones/actividades/trimestre | I5: Cooperación Internacional (COP) | K5: Servicio Regional de Salud Nordeste (SRSND)
A6: Primer Trimestre | B6: =+Tabla2[[#Totals],[Ene]]+Tabla2[[#Totals],[Feb]]+Tabla2[[#Totals],[Mar]] -> 297 | I6: Calidad Institucional (DCI) | K6: Servicio Regional de Salud Enriquillo (SRSEN)
A7: Segundo Trimestre | B7: =+Tabla2[[#Totals],[Abr]]+Tabla2[[#Totals],[May]]+Tabla2[[#Totals],[Jun]] -> 309 | I7: Administración (DAD) | K7: Servicio Regional de Salud Este (SRSES)
A8: Tercer Trimestre | B8: =+Tabla2[[#Totals],[Jul]]+Tabla2[[#Totals],[Ago]]+Tabla2[[#Totals],[Sep]] -> 284 | I8: Dirección Centros Hospitalarios (DCH) | K8: Servicio Regional de Salud El Valle (SRSEV)
A9: Cuarto Trimestre | B9: =+Tabla2[[#Totals],[Oct]]+Tabla2[[#Totals],[Nov]]+Tabla2[[#Totals],[Dic]] -> 276 | I9: Emergencia y Desastres (DED) | K9: Servicio Regional de Cibao Occidental (SRSCO)
A10: Total actividades del año 2020 | B10: =SUM(B6:B9) -> 1166 | I10: Comunicación Estratégica (DCE) | K10: Servicio Regional de Salud Cibao Central (SRSCC)
I11: Financiero (DF)
I12: Gestión Humana (DGH)
I13: Infraestructura y Equipos (DIE)
A14: Tabla Resumen POA 2020 | I14: Consultoría Jurídica (DCJ)
A15: Área Organizacional | B15: Presupuesto | C15: Nº Productos | D15: Nº Actividades | E15: % (Productos) | F15: % (Actividades) | G15: % (Presupuesto) | I15: Monitoreo y Evaluación (DME)
E16: =+C16/$C$31 -> #DIV/0! | F16: =+D16/$D$31 -> #DIV/0! | G16: =+B16/$B$31 -> #DIV/0! | I16: Planificación (DPD)
E17: =+C17/$C$31 -> #DIV/0! | F17: =+D17/$D$31 -> #DIV/0! | G17: =+B17/$B$31 -> #DIV/0! | I17: Dirección Primer Nivel (DPN)
E18: =+C18/$C$31 -> #DIV/0! | F18: =+D18/$D$31 -> #DIV/0! | G18: =+B18/$B$31 -> #DIV/0! | I18: Asistencia a la Red (DAR)
E19: =+C19/$C$31 -> #DIV/0! | F19: =+D19/$D$31 -> #DIV/0! | G19: =+B19/$B$31 -> #DIV/0! | I19: Seguridad Física (DSF)
E20: =+C20/$C$31 -> #DIV/0! | F20: =+D20/$D$31 -> #DIV/0! | G20: =+B20/$B$31 -> #DIV/0! | I20: Sistema de Información (DSI)
E21: =+C21/$C$31 -> #DIV/0! | F21: =+D21/$D$31 -> #DIV/0! | G21: =+B21/$B$31 -> #DIV/0! | I21: Tecnología (DTI)
E22: =+C22/$C$31 -> #DIV/0! | F22: =+D22/$D$31 -> #DIV/0! | G22: =+B22/$B$31 -> #DIV/0! | I22: Calidad Servicios de Salud (CSS)
E23: =+C23/$C$31 -> #DIV/0! | F23: =+D23/$D$31 -> #DIV/0! | G23: =+B23/$B$31 -> #DIV/0! | I23: Materno-Infantil (MIA)
E24: =+C24/$C$31 -> #DIV/0! | F24: =+D24/$D$31 -> #DIV/0! | G24: =+B24/$B$31 -> #DIV/0! | I24: OAI
E25: =+C25/$C$31 -> #DIV/0! | F25: =+D25/$D$31 -> #DIV/0! | G25: =+B25/$B$31 -> #DIV/0! | I25: Control y Fiscalización (OCF)
E26: =+C26/$C$31 -> #DIV/0! | F26: =+D26/$D$31 -> #DIV/0! | G26: =+B26/$B$31 -> #DIV/0! | I26: Odontología (ODO)
E27: =+C27/$C$31 -> #DIV/0! | F27: =+D27/$D$31 -> #DIV/0! | G27: =+B27/$B$31 -> #DIV/0! | I27: Pasantía Médica (PSM)
... E29: =+C29/$C$31 -> #DIV/0! | F29: =+D29/$D$31 -> #DIV/0! | G29: =+B29/$B$31 -> #DIV/0! | I29: Medicamentos e Insumos (DMI)
E30: =+C30/$C$31 -> #DIV/0! | F30: =+D30/$D$31 -> #DIV/0! | G30: =+B30/$B$31 -> #DIV/0!
A31: Total | B31: =SUM(B16:B30) -> 0 | C31: =SUM(C16:C30) -> 0 | D31: =SUM(D16:D30) -> 0 | E31: =SUM(E16:E30) -> #DIV/0! | F31: =SUM(F16:F30) -> #DIV/0! | G31: =SUM(G16:G30) -> #DIV/0!

Sheet Formulario PPGR1
H2: Servicio Nacional de Salud | M2: Año del POA: | N2: 2020
H3: Dirección de Planificación y Desarrollo | M3: Servicio Regional de Salud: | N3: R1 - SRS Valdesia | V3: =VLOOKUP(N3,Catalogo!$B$10:$C$19,2,FALSE) -> Ls_DependenciasSRS
M4: Estructura: | V4: =IF(V3="Ls_Estructura",VLOOKUP(N4,Catalogo!B23:C27,2,FALSE),VLOOKUP(N4,Catalogo!$B$97:$C$101,2,FALSE)) -> #N/A
H5: Identificación de Productos/Resultados | M5: =IF(V3="Ls_Estructura",VLOOKUP($N$4,Catalogo!$B$23:$D$28,3,FALSE),VLOOKUP($N$4,Catalogo!$B$97:$D$101,3,FALSE)) -> #N/A
B8: Prioridades Directivas | C8: POA | D8: SRS | E8: AREA | F8: TIPO | G8: Línea estratégica | H8: Cod_LE | I8: Objetivo | J8: Cod_Obj | K8: Resultado esperado | L8: Productos | M8: Indicador | N8: Unidad de medida | O8: Línea Base | P8: Meta | Q8: 1er. Trimestre | R8: 2do. Trimestre | S8: 3er. Trimestre | T8: 4to. Trimestre | U8: Supuestos | V8: Dependencia responsable
B9: Gestión y Control de la Planificación Institucional | C9: =IF(Tabla3[[#This Row],[Línea estratégica]]="","",#REF!) -> #REF! | D9: =IF(Tabla3[[#This Row],[Línea estratégica]]="","",#REF!) -> #REF! | E9: =IF(Tabla3[[#This Row],[Línea estratégica]]="","",#REF!) -> #REF! | F9: =IF(Tabla3[[#This Row],[Línea estratégica]]="","",#REF!) -> #REF! | G9: Le.1 - Fortalecer las capacidades gestoras institucionales del SNS a través de la implementación del Modelo de Gestión, del desarrollo de su organización funcional y de las capacidades e instrumentos necesarios en cada ámbito de gestión | H9: =IFERROR(VLOOKUP(Tabla3[[#This Row],[Línea estratégica]],Obj!$B$57:$C$90,2,FALSE),"") -> Le.1 | I9: Obj1.1 - Definir e implementar un modelo organizativo funcional en el Nivel Central del SNS | J9: =IFERROR(VLOOKUP($I9,Obj!$D$132:$E$147,2,FALSE),"") -> Obj1.1 | K9: Gestión Administrativa y Estratégica fortalecida | L9: 1.1.3.1 Fortalecimiento de la Planificación Institucional | M9: Porcentaje de productos de planificación generados y reportados | N9: Porcentaje | O9: 0.5 | P9: 1 | V9: Planificacion y desarrollo. | Y9: Desarrollo y Gestión de la Red de Servicios
B10: Gestión y Control de la Planificación Institucional | C10: =IF(Tabla3[[#This Row],[Línea estratégica]]="","",#REF!) -> #REF! | D10: =IF(Tabla3[[#This Row],[Línea estratégica]]="","",#REF!) -> #REF! | E10: =IF(Tabla3[[#This Row],[Línea estratégica]]="","",#REF!) -> #REF! | F10: =IF(Tabla3[[#This Row],[Línea estratégica]]="","",#REF!) -> #REF! | G10: Le.1 - Fortalecer las capacidades gestoras institucionales del SNS a través de la implementación del Modelo de Gestión, del desarrollo de su organización funcional y de las capacidades e instrumentos necesarios en cada ámbito de gestión | H10: =IFERROR(VLOOKUP(Tabla3[[#This Row],[Línea estratégica]],Obj!$B$57:$C$90,2,FALSE),"") -> Le.1 | I10: Obj1.1 - Definir e implementar un modelo organizativo funcional en el Nivel Central del SNS | J10: =IFERROR(VLOOKUP($I10,Obj!$D$132:$E$147,2,FALSE),"") -> Obj1.1 | K10: Gestión Administrativa y Estratégica fortalecida | L10: 1.1.3.2 Gestión documental de procesos institucionales | M10: Porcentaje de ejecución del plan de clasificación y administración de la gestión documental | N10: Porcentaje | O10: 0.1 | P10: 0.5 | V10: Planificacion y desarrollo. | Y10: Transparencia Institucional
B11: Gestión y Control de la Planificación Institucional | C11: =IF(Tabla3[[#This Row],[Línea estratégica]]="","",#REF!) -> #REF! | D11: =IF(Tabla3[[#This Row],[Línea estratégica]]="","",#REF!) -> #REF! | E11: =IF(Tabla3[[#This Row],[Línea estratégica]]="","",#REF!) -> #REF! | F11: =IF(Tabla3[[#This Row],[Línea estratégica]]="","",#REF!) -> #REF! | G11: Le.1 - Fortalecer las capacidades gestoras institucionales del SNS a través de la implementación del Modelo de Gestión, del desarrollo de su organización funcional y de las capacidades e instrumentos necesarios en cada ámbito de gestión | H11: =IFERROR(VLOOKUP(Tabla3[[#This Row],[Línea estratégica]],Obj!$B$57:$C$90,2,FALSE),"") -> Le.1 | I11: Obj1.1 - Definir e implementar un modelo organizativo funcional en el Nivel Central del SNS | J11: =IFERROR(VLOOKUP($I11,Obj!$D$132:$E$147,2,FALSE),"") -> Obj1.1 | K11: Gestión Administrativa y Estratégica fortalecida | L11: 1.1.3.1. Modelo de Gestión de Calidad Intitucional | M11: Nivel de implementación del modelo de gestión de calidad | N11: Porcentaje | O11: 0.1 | P11: 0.5 | V11: Direccion de Planificacion y Desarrollo/División Calidad Institucional | Y11: Gestión Integral de Información
B12: Transparencia Institucional | C12: =IF(Tabla3[[#This Row],[Línea estratégica]]="","",#REF!) -> #REF! | D12: =IF(Tabla3[[#This Row],[Línea estratégica]]="","",#REF!) -> #REF! | E12: =IF(Tabla3[[#This Row],[Línea estratégica]]="","",#REF!) -> #REF! | F12: =IF(Tabla3[[#This Row],[Línea estratégica]]="","",#REF!) -> #REF! | G12: Le.1 - Fortalecer las capacidades gestoras institucionales del SNS a través de la implementación del Modelo de Gestión, del desarrollo de su organización funcional y de las capacidades e instrumentos necesarios en cada ámbito de gestión | H12: =IFERROR(VLOOKUP(Tabla3[[#This Row],[Línea estratégica]],Obj!$B$57:$C$90,2,FALSE),"") -> Le.1 | I12: Obj1.1 - Definir e implementar un modelo organizativo funcional en el Nivel Central del SNS | J12: =IFERROR(VLOOKUP($I12,Obj!$D$132:$E$147,2,FALSE),"") -> Obj1.1 | K12: Estructuras organizativas y funcionales desplegadas en todos los niveles del SNS | L12: 1.1.2-1Estandarización de los Sub-portales de Trasparencia de la Red SNS | M12: Niveles del SNS con estructura funcional y organizativa | N12: Porcentaje | O12: 0.1 | P12: 0.3 | V12: Oficina Acceso a la Información (OAI) | Y12: Gestión y Control de la Planificación Institucional
B13: Transparencia Institucional | C13: =IF(Tabla3[[#This Row],[Línea estratégica]]="","",#REF!) -> #REF! | D13: =IF(Tabla3[[#This Row],[Línea estratégica]]="","",#REF!) -> #REF! | E13: =IF(Tabla3[[#This Row],[Línea estratégica]]="","",#REF!) -> #REF! | F13: =IF(Tabla3[[#This Row],[Línea estratégica]]="","",#REF!) -> #REF! | G13: Le.1 - Fortalecer las capacidades gestoras institucionales del SNS a través de la implementación del Modelo de Gestión, del desarrollo de su organización funcional y de las capacidades e instrumentos necesarios en cada ámbito de gestión | H13: =IFERROR(VLOOKUP(Tabla3[[#This Row],[Línea estratégica]],Obj!$B$57:$C$90,2,FALSE),"") -> Le.1 | I13: Obj1.1 - Definir e implementar un modelo organizativo funcional en el Nivel Central del SNS | J13: =IFERROR(VLOOKUP($I13,Obj!$D$132:$E$147,2,FALSE),"") -> Obj1.1 | K13: Estructuras organizativas y funcionales desplegadas en todos los niveles del SNS | L13: 1.1.2.2Conformación Comisiones de Ética | M13: Niveles del SNS con estructura funcional y organizativa | N13: Porcentaje | O13: 0.1 | P13: 0.3 | V13: Oficina Acceso a la Información (OAI) | Y13: Promoción y Cultura de Innovación
B14: Gestionar y fortalecer el Talento Humano | C14: =IF(Tabla3[[#This Row],[Línea estratégica]]="","",#REF!) -> #REF! | D14: =IF(Tabla3[[#This Row],[Línea estratégica]]="","",#REF!) -> #REF! | E14: =IF(Tabla3[[#This Row],[Línea estratégica]]="","",#REF!) -> #REF! | F14: =IF(Tabla3[[#This Row],[Línea estratégica]]="","",#REF!) -> #REF! | G14: Le.1 - Fortalecer las capacidades gestoras institucionales del SNS a través de la implementación del Modelo de Gestión, del desarrollo de su organización funcional y de las capacidades e instrumentos necesarios en cada ámbito de gestión | H14: =IFERROR(VLOOKUP(Tabla3[[#This Row],[Línea estratégica]],Obj!$B$57:$C$90,2,FALSE),"") -> Le.1 | I14: Obj1.1 - Definir e implementar un modelo organizativo funcional en el Nivel Central del SNS | J14: =IFERROR(VLOOKUP($I14,Obj!$D$132:$E$147,2,FALSE),"") -> Obj1.1 | K14: Estructuras organizativas y funcionales desplegadas en todos los niveles del SNS | L14: 1.1.1. Planificación de Recursos Humanos Servicio Regional de Salud | M14: Nivel de recurso Humano Planificado | N14: Porcentaje | P14: 0.5 | V14: Recursos Humanos | Y14: Disminución de la Mortalidad Materna e Infantil
B15: Desarrollo y Gestión de la Red de Servicios | C15: =IF(Tabla3[[#This Row],[Línea estratégica]]="","",#REF!) -> #REF! | D15: =IF(Tabla3[[#This Row],[Línea estratégica]]="","",#REF!) -> #REF! | E15: =IF(Tabla3[[#This Row],[Línea estratégica]]="","",#REF!) -> #REF! | F15: =IF(Tabla3[[#This Row],[Línea estratégica]]="","",#REF!) -> #REF! | G15: Le.1 - Fortalecer las capacidades gestoras institucionales del SNS a través de la implementación del Modelo de Gestión, del desarrollo de su organización funcional y de las capacidades e instrumentos necesarios en cada ámbito de gestión | H15: =IFERROR(VLOOKUP(Tabla3[[#This Row],[Línea estratégica]],Obj!$B$57:$C$90,2,FALSE),"") -> Le.1 | I15: Obj1.1 - Definir e implementar un modelo organizativo funcional en el Nivel Central del SNS | J15: =IFERROR(VLOOKUP($I15,Obj!$D$132:$E$147,2,FALSE),"") -> Obj1.1 | K15: Gestión Administrativa y Estratégica fortalecida | L15: 1.1 .3.1 Implementación del Circulo de Desarrollo Gerencial | M15: Total de CEAS que han implementado su circulo de desarrollo gerencial. | N15: Porcentaje | O15: 0 | P15: 0.5 | V15: Hospitales | Y15: Gestionar y fortalecer el Talento Humano
B16: Desarrollo y Gestión de la Red de Servicios | C16: =IF(Tabla3[[#This Row],[Línea estratégica]]="","",#REF!) -> #REF! | D16: =IF(Tabla3[[#This Row],[Línea estratégica]]="","",#REF!) -> #REF! | E16: =IF(Tabla3[[#This Row],[Línea estratégica]]="","",#REF!) -> #REF! | F16: =IF(Tabla3[[#This Row],[Línea estratégica]]="","",#REF!) -> #REF! | G16: Le.1 - Fortalecer las capacidades gestoras institucionales del SNS a través de la implementación del Modelo de Gestión, del desarrollo de su organización funcional y de las capacidades e instrumentos necesarios en cada ámbito de gestión | H16: =IFERROR(VLOOKUP(Tabla3[[#This Row],[Línea estratégica]],Obj!$B$57:$C$90,2,FALSE),"") -> Le.1 | I16: Obj1.2 - Actualizar e implementar el Modelo de Gestión del SNS en todos sus niveles y el Modelo de Red de los SRS | J16: =IFERROR(VLOOKUP($I16,Obj!$D$132:$E$147,2,FALSE),"") -> Obj1.2 | K16: Promovida la gestión eficiente, que facilite la comunicación, coordinación y control de la red del SNS | L16: 1.2.2.1. Portal de Transparencia de la Red SNS | M16: Evaluación del portal de transparencia de la DCSNS | N16: Porcentaje | O16: 1 | P16: 1 | V16: Oficina Acceso a la Información (OAI) | Y16: Automatización Tecnológica
B17: Desarrollo y Gestión de la Red de Servicios | C17: =IF(Tabla3[[#This Row],[Línea estratégica]]="","",#REF!) -> #REF! | D17: =IF(Tabla3[[#This Row],[Línea estratégica]]="","",#REF!) -> #REF! | E17: =IF(Tabla3[[#This Row],[Línea estratégica]]="","",#REF!) -> #REF! | F17: =IF(Tabla3[[#This Row],[Línea estratégica]]="","",#REF!) -> #REF! | G17: Le.1 - Fortalecer las capacidades gestoras institucionales del SNS a través de la implementación del Modelo de Gestión, del desarrollo de su organización funcional y de las capacidades e instrumentos necesarios en cada ámbito de gestión | H17: =IFERROR(VLOOKUP(Tabla3[[#This Row],[Línea estratégica]],Obj!$B$57:$C$90,2,FALSE),"") -> Le.1 | I17: Obj1.2 - Actualizar e implementar el Modelo de Gestión del SNS en todos sus niveles y el Modelo de Red de los SRS | J17: =IFERROR(VLOOKUP($I17,Obj!$D$132:$E$147,2,FALSE),"") -> Obj1.2 | K17: Modelo de Red implementado y operando acorde a los lineamientos del Modelo de Gestión y del Modelo de Atención | L17: 1.2.1.1Conectividad de la Red | M17: Total de CEAS del SRScapacitados en la MGP | N17: Porcentaje | O17: 0 | P17: 100 | V17: Hospitales | Y17: Cultura de Servicios y Gestión de Usuarios
B18: Desarrollo y Gestión de la Red de Servicios | C18: =IF(Tabla3[[#This Row],[Línea estratégica]]="","",#REF!) -> #REF! | D18: =IF(Tabla3[[#This Row],[Línea estratégica]]="","",#REF!) -> #REF! | E18: =IF(Tabla3[[#This Row],[Línea estratégica]]="","",#REF!) -> #REF! | F18: =IF(Tabla3[[#This Row],[Línea estratégica]]="","",#REF!) -> #REF! | G18: Le.1 - Fortalecer las capacidades gestoras institucionales del SNS a través de la implementación del Modelo de Gestión, del desarrollo de su organización funcional y de las capacidades e instrumentos necesarios en cada ámbito de gestión | H18: =IFERROR(VLOOKUP(Tabla3[[#This Row],[Línea estratégica]],Obj!$B$57:$C$90,2,FALSE),"") -> Le.1 | I18: Obj1.2 - Actualizar e implementar el Modelo de Gestión del SNS en todos sus niveles y el Modelo de Red de los SRS | J18: =IFERROR(VLOOKUP($I18,Obj!$D$132:$E$147,2,FALSE),"") -> Obj1.2 | K18: Promovida la gestión eficiente, que facilite la comunicación, coordinación y control de la red del SNS | L18: 1.2.2.1 Implementación de los Comités de Veeduría | M18: Total de CEAS que tienen implementados los comites de veeduria | N18: Porcentaje | O18: 0 | P18: 1 | V18: Hospitales | Y18: Fortalecimiento de la Veeduría y participación social
B19: Gestión y Control de la Planificación Institucional | C19: =IF(Tabla3[[#This Row],[Línea estratégica]]="","",#REF!) -> #REF! | D19: =IF(Tabla3[[#This Row],[Línea estratégica]]="","",#REF!) -> #REF! | E19: =IF(Tabla3[[#This Row],[Línea estratégica]]="","",#REF!) -> #REF! | F19: =IF(Tabla3[[#This Row],[Línea estratégica]]="","",#REF!) -> #REF! | G19: Le.1 - Fortalecer las capacidades gestoras institucionales del SNS a través de la implementación del Modelo de Gestión, del desarrollo de su organización funcional y de las capacidades e instrumentos necesarios en cada ámbito de gestión | H19: =IFERROR(VLOOKUP(Tabla3[[#This Row],[Línea estratégica]],Obj!$B$57:$C$90,2,FALSE),"") -> Le.1 | I19: Obj1.2 - Actualizar e implementar el Modelo de Gestión del SNS en todos sus niveles y el Modelo de Red de los SRS | J19: =IFERROR(VLOOKUP($I19,Obj!$D$132:$E$147,2,FALSE),"") -> Obj1.2 | K19: Modelo de Red implementado y operando acorde a los lineamientos del Modelo de Gestión y del Modelo de Atención | L19: 1.2.1 Modelo de Red implementado y operando acorde a los lineamientos del Modelo de Gestión y del Modelo de atencion | M19: Nivel de implementacion del modelo de gestion | N19: Porcentaje | O19: 153 CPN | P19: 1 | V19: Coordinacion de primer nivel de atencion | Y19: Calidad de la Atención Clínica
B20: Desarrollo y Gestión de la Red de Servicios | C20: =IF(Tabla3[[#This Row],[Línea estratégica]]="","",#REF!) -> #REF! | D20: =IF(Tabla3[[#This Row],[Línea estratégica]]="","",#REF!) -> #REF! | E20: =IF(Tabla3[[#This Row],[Línea estratégica]]="","",#REF!) -> #REF! | F20: =IF(Tabla3[[#This Row],[Línea estratégica]]="","",#REF!) -> #REF! | G20: Le.1 - Fortalecer las capacidades gestoras institucionales del SNS a través de la implementación del Modelo de Gestión, del desarrollo de su organización funcional y de las capacidades e instrumentos necesarios en cada ámbito de gestión | H20: =IFERROR(VLOOKUP(Tabla3[[#This Row],[Línea estratégica]],Obj!$B$57:$C$90,2,FALSE),"") -> Le.1 | I20: Obj1.2 - Actualizar e implementar el Modelo de Gestión del SNS en todos sus niveles y el Modelo de Red de los SRS | J20: =IFERROR(VLOOKUP($I20,Obj!$D$132:$E$147,2,FALSE),"") -> Obj1.2 | K20: Promovida la gestión eficiente, que facilite la comunicación, coordinación y control de la red del SNS | L20: 1.2.2.1Despliegue de los instrumentos de Gestión Clínica | M20: Instrumentos de gestion clinica despplegados en la red. | N20: Porcentage | O20: 0.1 | P20: 0.5 | V20: GestionClinica.
B21: Desarrollo y Gestión de la Red de Servicios | C21: =IF(Tabla3[[#This Row],[Línea estratégica]]="","",#REF!) -> #REF! | D21: =IF(Tabla3[[#This Row],[Línea estratégica]]="","",#REF!) -> #REF! | E21: =IF(Tabla3[[#This Row],[Línea estratégica]]="","",#REF!) -> #REF! | F21: =IF(Tabla3[[#This Row],[Línea estratégica]]="","",#REF!) -> #REF! | G21: Le.1 - Fortalecer las capacidades gestoras institucionales del SNS a través de la implementación del Modelo de Gestión, del desarrollo de su organización funcional y de las capacidades e instrumentos necesarios en cada ámbito de gestión | H21: =IFERROR(VLOOKUP(Tabla3[[#This Row],[Línea estratégica]],Obj!$B$57:$C$90,2,FALSE),"") -> Le.1 | I21: Obj1.3 - Desarrollar e implementar un modelo económico y financiero que garantice la sostenibilidad de la Red de servicios incluyendo los Hospitales Autogestionados | J21: =IFERROR(VLOOKUP($I21,Obj!$D$132:$E$147,2,FALSE),"") -> Obj1.3 | K21: Racionalizado el uso de los recursos financieros y económicos (inventario, bienes y equipos) | L21: 1.3.2.1 Implementación del Sistema de Administración de Bienes | M21: Porcentaje de establecimientos de la Red con inventarios actualizados | N21: Porcentaje | P21: 0.95 | V21: Administracion
B22: Desarrollo y Gestión de la Red de Servicios | C22: =IF(Tabla3[[#This Row],[Línea estratégica]]="","",#REF!) -> #REF! | D22: =IF(Tabla3[[#This Row],[Línea estratégica]]="","",#REF!) -> #REF! | E22: =IF(Tabla3[[#This Row],[Línea estratégica]]="","",#REF!) -> #REF! | F22: =IF(Tabla3[[#This Row],[Línea estratégica]]="","",#REF!) -> #REF! | G22: Le.1 - Fortalecer las capacidades gestoras institucionales del SNS a través de la implementación del Modelo de Gestión, del desarrollo de su organización funcional y de las capacidades e instrumentos necesarios en cada ámbito de gestión | H22: =IFERROR(VLOOKUP(Tabla3[[#This Row],[Línea estratégica]],Obj!$B$57:$C$90,2,FALSE),"") -> Le.1 | I22: Obj1.3 - Desarrollar e implementar un modelo económico y financiero que garantice la sostenibilidad de la Red de servicios incluyendo los Hospitales Autogestionados | J22: =IFERROR(VLOOKUP($I22,Obj!$D$132:$E$147,2,FALSE),"") -> Obj1.3 | K22: Incrementada la sostenibilidad financiera de la Red, mediante la implementación de un Modelo de Gestión Económico y Financiero que permita reducir las brechas entre los recursos y las necesidades | L22: 1.3.1.1.Fortalecimiento de la gestión financiera de la Red | M22: Porcentaje de EESS con ARS contratadas y un sistema de facturacion incrementado | N22: Porcentaje | P22: 0.9 | V22: Administracion
B23: Desarrollo y Gestión de la Red de Servicios | C23: =IF(Tabla3[[#This Row],[Línea estratégica]]="","",#REF!) -> #REF! | D23: =IF(Tabla3[[#This Row],[Línea estratégica]]="","",#REF!) -> #REF! | E23: =IF(Tabla3[[#This Row],[Línea estratégica]]="","",#REF!) -> #REF! | F23: =IF(Tabla3[[#This Row],[Línea estratégica]]="","",#REF!) -> #REF! | G23: Le.1 - Fortalecer las capacidades gestoras institucionales del SNS a través de la implementación del Modelo de Gestión, del desarrollo de su organización funcional y de las capacidades e instrumentos necesarios en cada ámbito de gestión | H23: =IFERROR(VLOOKUP(Tabla3[[#This Row],[Línea estratégica]],Obj!$B$57:$C$90,2,FALSE),"") -> Le.1 | I23: Obj1.3 - Desarrollar e implementar un modelo económico y financiero que garantice la sostenibilidad de la Red de servicios incluyendo los Hospitales Autogestionados | J23: =IFERROR(VLOOKUP($I23,Obj!$D$132:$E$147,2,FALSE),"") -> Obj1.3 | K23: Incrementada la sostenibilidad financiera de la Red, mediante la implementación de un Modelo de Gestión Económico y Financiero que permita reducir las brechas entre los recursos y las necesidades | L23: 1.3.1.1Objecciones Medicas Disminuidas | M23: Total de CEAS con objeciones medicas disminuidas | N23: porcentaje | O23: 0 | P23: 1 | V23: Hospitales
B24: Desarrollo y Gestión de la Red de Servicios | C24: =IF(Tabla3[[#This Row],[Línea estratégica]]="","",#REF!) -> #REF! | D24: =IF(Tabla3[[#This Row],[Línea estratégica]]="","",#REF!) -> #REF! | E24: =IF(Tabla3[[#This Row],[Línea estratégica]]="","",#REF!) -> #REF! | F24: =IF(Tabla3[[#This Row],[Línea estratégica]]="","",#REF!) -> #REF! | G24: Le.1 - Fortalecer las capacidades gestoras institucionales del SNS a través de la implementación del Modelo de Gestión, del desarrollo de su organización funcional y de las capacidades e instrumentos necesarios en cada ámbito de gestión | H24: =IFERROR(VLOOKUP(Tabla3[[#This Row],[Línea estratégica]],Obj!$B$57:$C$90,2,FALSE),"") -> Le.1 | I24: Obj1.3 - Desarrollar e implementar un modelo económico y financiero que garantice la sostenibilidad de la Red de servicios incluyendo los Hospitales Autogestionados | J24: =IFERROR(VLOOKUP($I24,Obj!$D$132:$E$147,2,FALSE),"") -> Obj1.3 | K24: Incrementada la sostenibilidad financiera de la Red, mediante la implementación de un Modelo de Gestión Económico y Financiero que permita reducir las brechas entre los recursos y las necesidades | L24: 1.3.1.2 Despliegue del convenio marco en los CEAS | M24: Total de CEAS que cumplen con los indicadores del convenio marco | N24: porcentaje | O24: 0 | P24: 1 | V24: Hospitales
B25: Desarrollo y Gestión de la Red de Servicios | C25: =IF(Tabla3[[#This Row],[Línea estratégica]]="","",#REF!) -> #REF! | D25: =IF(Tabla3[[#This Row],[Línea estratégica]]="","",#REF!) -> #REF! | E25: =IF(Tabla3[[#This Row],[Línea estratégica]]="","",#REF!) -> #REF! | F25: =IF(Tabla3[[#This Row],[Línea estratégica]]="","",#REF!) -> #REF! | G25: Le.1 - Fortalecer las capacidades gestoras institucionales del SNS a través de la implementación del Modelo de Gestión, del desarrollo de su organización funcional y de las capacidades e instrumentos necesarios en cada ámbito de gestión | H25: =IFERROR(VLOOKUP(Tabla3[[#This Row],[Línea estratégica]],Obj!$B$57:$C$90,2,FALSE),"") -> Le.1 | I25: Obj1.3 - Desarrollar e implementar un modelo económico y financiero que garantice la sostenibilidad de la Red de servicios incluyendo los Hospitales Autogestionados | J25: =IFERROR(VLOOKUP($I25,Obj!$D$132:$E$147,2,FALSE),"") -> Obj1.3 | K25: Incrementada la sostenibilidad financiera de la Red, mediante la implementación de un Modelo de Gestión Económico y Financiero que permita reducir las brechas entre los recursos y las necesidades | L25: 1.3.1.2 Fortalecimiento de la gestión financiera de la Red | M25: Nivel de implementacion de las NOBACI | N25: 10 | O25: 0.75 | U25: ADMINISTRATIVO /FINANCIERO (FINANCIERO) | V25: ADMINISTRATIVO /FINANCIERO (FINANCIERO)
B26: Desarrollo y Gestión de la Red de Servicios | C26: =IF(Tabla3[[#This Row],[Línea estratégica]]="","",#REF!) -> #REF! | D26: =IF(Tabla3[[#This Row],[Línea estratégica]]="","",#REF!) -> #REF! | E26: =IF(Tabla3[[#This Row],[Línea estratégica]]="","",#REF!) -> #REF! | F26: =IF(Tabla3[[#This Row],[Línea estratégica]]="","",#REF!) -> #REF! | G26: Le.1 - Fortalecer las capacidades gestoras institucionales del SNS a través de la implementación del Modelo de Gestión, del desarrollo de su organización funcional y de las capacidades e instrumentos necesarios en cada ámbito de gestión | H26: =IFERROR(VLOOKUP(Tabla3[[#This Row],[Línea estratégica]],Obj!$B$57:$C$90,2,FALSE),"") -> Le.1 | I26: Obj1.3 - Desarrollar e implementar un modelo económico y financiero que garantice la sostenibilidad de la Red de servicios incluyendo los Hospitales Autogestionados | J26: =IFERROR(VLOOKUP($I26,Obj!$D$132:$E$147,2,FALSE),"") -> Obj1.3 | K26: Incrementada la sostenibilidad financiera de la Red, mediante la implementación de un Modelo de Gestión Económico y Financiero que permita reducir las brechas entre los recursos y las necesidades | L26: 1.3.1.2 Fortalecimiento de la gestión financiera de la Red | M26: Porcentaje de Establecimiento que presentan sus informes de rendicion de cuenta de manera oportuna. | N26: 9 | O26: 0.8 | U26: ADMINISTRATIVO /FINANCIERO (FINANCIERO) | V26: ADMINISTRATIVO /FINANCIERO (FINANCIERO)
B27: Desarrollo y Gestión de la Red de Servicios | C27: =IF(Tabla3[[#This Row],[Línea estratégica]]="","",#REF!) -> #REF! | D27: =IF(Tabla3[[#This Row],[Línea estratégica]]="","",#REF!) -> #REF! | E27: =IF(Tabla3[[#This Row],[Línea estratégica]]="","",#REF!) -> #REF! | F27: =IF(Tabla3[[#This Row],[Línea estratégica]]="","",#REF!) -> #REF! | G27: Le.1 - Fortalecer las capacidades gestoras institucionales del SNS a través de la implementación del Modelo de Gestión, del desarrollo de su organización funcional y de las capacidades e instrumentos necesarios en cada ámbito de gestión | H27: =IFERROR(VLOOKUP(Tabla3[[#This Row],[Línea estratégica]],Obj!$B$57:$C$90,2,FALSE),"") -> Le.1 | I27: Obj1.4 - Definir e implementar los mecanismos de relación y articulación interna entre el centro coordinador del SNS y los SRS y al interno de los SRS, en forma de acuerdos de gestión que incorporen objetivos y resultados | J27: =IFERROR(VLOOKUP($I27,Obj!$D$132:$E$147,2,FALSE),"") -> Obj1.4 | K27: Fortalecida la capacidad de Gestión de la Red en relación a los objetivos estratégicos del SNS | L27: 1.4.1.1Fortalecimiento de la provisión de servicios odontológicos | M27: porcentaje deEESS con servicios odontologicos fortalecidos. | N27: porciento | O27: 0.1 | P27: 0.4 | V27: Gestion Clinica / salud bucal
B28: Calidad de la Atención Clínica | C28: =IF(Tabla3[[#This Row],[Línea estratégica]]="","",#REF!) -> #REF! | D28: =IF(Tabla3[[#This Row],[Línea estratégica]]="","",#REF!) -> #REF! | E28: =IF(Tabla3[[#This Row],[Línea estratégica]]="","",#REF!) -> #REF! | F28: =IF(Tabla3[[#This Row],[Línea estratégica]]="","",#REF!) -> #REF! | G28: Le.1 - Fortalecer las capacidades gestoras institucionales del SNS a través de la implementación del Modelo de Gestión, del desarrollo de su organización funcional y de las capacidades e instrumentos necesarios en cada ámbito de gestión | H28: =IFERROR(VLOOKUP(Tabla3[[#This Row],[Línea estratégica]],Obj!$B$57:$C$90,2,FALSE),"") -> Le.1 | I28: Obj1.5 - Definir e implementar el modelo de articulación externa con los agentes relevantes del sector salud y otros sectores, que coadyuven con el logro de los objetivos estratégicos de la institución | J28: =IFERROR(VLOOKUP($I28,Obj!$D$132:$E$147,2,FALSE),"") -> Obj1.5 | K28: Fortalecida las relaciones del Nivel Central del SNS y otros agentes del sector Salud | L28: 1.5.1.1 Fortalecimiento de los servicios de salud en materia de política de género. | M28: Número de Centros de salud que han fortalecido sus servicios de salud en base al manejo de conflictos relacionados con la violencia de género e intrafamiliar. | N28: Porcentaje | O28: 50% de salud que han sido capacitados en manejo de víctimas de violencia | P28: 0.5 | V28: Gestión Clínica/programa política de género
B29: Calidad de la Atención Clínica | C29: =IF(Tabla3[[#This Row],[Línea estratégica]]="","",#REF!) -> #REF! | D29: =IF(Tabla3[[#This Row],[Línea estratégica]]="","",#REF!) -> #REF! | E29: =IF(Tabla3[[#This Row],[Línea estratégica]]="","",#REF!) -> #REF! | F29: =IF(Tabla3[[#This Row],[Línea estratégica]]="","",#REF!) -> #REF! | G29: Le.1 - Fortalecer las capacidades gestoras institucionales del SNS a través de la implementación del Modelo de Gestión, del desarrollo de su organización funcional y de las capacidades e instrumentos necesarios en cada ámbito de gestión | H29: =IFERROR(VLOOKUP(Tabla3[[#This Row],[Línea estratégica]],Obj!$B$57:$C$90,2,FALSE),"") -> Le.1 | I29: Obj1.5 - Definir e implementar el modelo de articulación externa con los agentes relevantes del sector salud y otros sectores, que coadyuven con el logro de los objetivos estratégicos de la institución | J29: =IFERROR(VLOOKUP($I29,Obj!$D$132:$E$147,2,FALSE),"") -> Obj1.5 | K29: Fortalecida las relaciones del Nivel Central del SNS y otros agentes del sector Salud | L29: 1.5.1.1 Fortalecimiento de los servicios de salud en materia de política de género. | M29: Número de Centros de salud que han fortalecido sus servicios de salud con la conformación de la unidad de género en salud. | N29: Porcentaje | O29: Actualmente no contamos con ninguna unidad de género funcionando en nuestros hospitales. | P29: 0.1 | V29: Gestión Clínica/programa política de género
B30: Gestión Integral de Información | C30: =IF(Tabla3[[#This Row],[Línea estratégica]]="","",#REF!) -> #REF! | D30: =IF(Tabla3[[#This Row],[Línea estratégica]]="","",#REF!) -> #REF! | E30: =IF(Tabla3[[#This Row],[Línea estratégica]]="","",#REF!) -> #REF! | F30: =IF(Tabla3[[#This Row],[Línea estratégica]]="","",#REF!) -> #REF! | G30: Le.1 - Fortalecer las capacidades gestoras institucionales del SNS a través de la implementación del Modelo de Gestión, del desarrollo de su organización funcional y de las capacidades e instrumentos necesarios en cada ámbito de gestión | H30: =IFERROR(VLOOKUP(Tabla3[[#This Row],[Línea estratégica]],Obj!$B$57:$C$90,2,FALSE),"") -> Le.1 | I30: Obj1.6 - Fortalecer los sistemas de información existentes en todos los niveles del SNS para apoyar la gestión para resultados | J30: =IFERROR(VLOOKUP($I30,Obj!$D$132:$E$147,2,FALSE),"") -> Obj1.6 | K30: Estandarizados los instrumentos de recolección de datos de los establecimientos de salud y de las entidades administrativas de la red, que minimice la duplicidad de reportes e informes que emanen de los diferentes niveles | L30: 1.6.2.1 Formularios primarios estandarizados | M30: porcentaje de formularios primarios estandarizados. | N30: formularios | O30: 0 | P30: 1 | V30: Enc. Del Sistema de informacion.
B31: Gestión Integral de Información | C31: =IF(Tabla3[[#This Row],[Línea estratégica]]="","",#REF!) -> #REF! | D31: =IF(Tabla3[[#This Row],[Línea estratégica]]="","",#REF!) -> #REF! | E31: =IF(Tabla3[[#This Row],[Línea estratégica]]="","",#REF!) -> #REF! | F31: =IF(Tabla3[[#This Row],[Línea estratégica]]="","",#REF!) -> #REF! | G31: Le.1 - Fortalecer las capacidades gestoras institucionales del SNS a través de la implementación del Modelo de Gestión, del desarrollo de su organización funcional y de las capacidades e instrumentos necesarios en cada ámbito de gestión | H31: =IFERROR(VLOOKUP(Tabla3[[#This Row],[Línea estratégica]],Obj!$B$57:$C$90,2,FALSE),"") -> Le.1 | I31: Obj1.6 - Fortalecer los sistemas de información existentes en todos los niveles del SNS para apoyar la gestión para resultados | J31: =IFERROR(VLOOKUP($I31,Obj!$D$132:$E$147,2,FALSE),"") -> Obj1.6 | K31: Sistemas de información digitales estandarizados, que permita el flujo de información entre niveles y facilite la toma de decisiones desarrollados e implementados | L31: 1.6.4.1 Fortalecimiento del sistema de informacion dela red | M31: porcentaje de informes estadisticos en los tiempos establecidos | N31: porcentaje de informes | O31: 0 | P31: 1 | V31: Enc. Del Sistema de informacion.
B32: Gestión Integral de Información | C32: =IF(Tabla3[[#This Row],[Línea estratégica]]="","",#REF!) -> #REF! | D32: =IF(Tabla3[[#This Row],[Línea estratégica]]="","",#REF!) -> #REF! | E32: =IF(Tabla3[[#This Row],[Línea estratégica]]="","",#REF!) -> #REF! | F32: =IF(Tabla3[[#This Row],[Línea estratégica]]="","",#REF!) -> #REF! | G32: Le.1 - Fortalecer las capacidades gestoras institucionales del SNS a través de la implementación del Modelo de Gestión, del desarrollo de su organización funcional y de las capacidades e instrumentos necesarios en cada ámbito de gestión | H32: =IFERROR(VLOOKUP(Tabla3[[#This Row],[Línea estratégica]],Obj!$B$57:$C$90,2,FALSE),"") -> Le.1 | I32: Obj1.6 - Fortalecer los sistemas de información existentes en todos los niveles del SNS para apoyar la gestión para resultados | J32: =IFERROR(VLOOKUP($I32,Obj!$D$132:$E$147,2,FALSE),"") -> Obj1.6 | K32: Régimen de auditoria de calidad de la información implementado | L32: 1.6.3.1 Ejecucion del programa de Auditoria Calidad del Dato | M32: porcentaje de ejecucion del programa de auditoria | N32: porcentaje de centros auditados | O32: 0 | P32: 0.9 | V32: Enc. Del Sistema de informacion.
B33: Gestión Integral de Información | C33: =IF(Tabla3[[#This Row],[Línea estratégica]]="","",#REF!) -> #REF! | D33: =IF(Tabla3[[#This Row],[Línea estratégica]]="","",#REF!) -> #REF! | E33: =IF(Tabla3[[#This Row],[Línea estratégica]]="","",#REF!) -> #REF! | F33: =IF(Tabla3[[#This Row],[Línea estratégica]]="","",#REF!) -> #REF! | G33: Le.1 - Fortalecer las capacidades gestoras institucionales del SNS a través de la implementación del Modelo de Gestión, del desarrollo de su organización funcional y de las capacidades e instrumentos necesarios en cada ámbito de gestión | H33: =IFERROR(VLOOKUP(Tabla3[[#This Row],[Línea estratégica]],Obj!$B$57:$C$90,2,FALSE),"") -> Le.1 | I33: Obj1.6 - Fortalecer los sistemas de información existentes en todos los niveles del SNS para apoyar la gestión para resultados | J33: =IFERROR(VLOOKUP($I33,Obj!$D$132:$E$147,2,FALSE),"") -> Obj1.6 | K33: Sistemas de información digitales estandarizados, que permita el flujo de información entre niveles y facilite la toma de decisiones desarrollados e implementados | L33: 1.6.4.2 Implementación del Expedientes Integral de Salud | M33: porcentaje del uso del EIS | N33: Pporcentaje de centros con EIS implemtado. | O33: 0.15 | P33: 0.2 | V33: Enc. Del Sistema de informacion.
B34: Gestión Integral de Información | C34: =IF(Tabla3[[#This Row],[Línea estratégica]]="","",#REF!) -> #REF! | D34: =IF(Tabla3[[#This Row],[Línea estratégica]]="","",#REF!) -> #REF! | E34: =IF(Tabla3[[#This Row],[Línea estratégica]]="","",#REF!) -> #REF! | F34: =IF(Tabla3[[#This Row],[Línea estratégica]]="","",#REF!) -> #REF! | G34: Le.1 - Fortalecer las capacidades gestoras institucionales del SNS a través de la implementación del Modelo de Gestión, del desarrollo de su organización funcional y de las capacidades e instrumentos necesarios en cada ámbito de gestión | H34: =IFERROR(VLOOKUP(Tabla3[[#This Row],[Línea estratégica]],Obj!$B$57:$C$90,2,FALSE),"") -> Le.1 | I34: Obj1.6 - Fortalecer los sistemas de información existentes en todos los niveles del SNS para apoyar la gestión para resultados | J34: =IFERROR(VLOOKUP($I34,Obj!$D$132:$E$147,2,FALSE),"") -> Obj1.6 | K34: Sistemas de información digitales estandarizados, que permita el flujo de información entre niveles y facilite la toma de decisiones desarrollados e implementados | L34: 1.6.4. 3 Catalogo de establecimientos de salud de la Red | M34: porcentaje de centros actualizados | N34: centros | O34: 0.8 | P34: 1 | V34: Enc. Del Sistema de informacion.
B35: Gestión Integral de Información | C35: =IF(Tabla3[[#This Row],[Línea estratégica]]="","",#REF!) -> #REF! | D35: =IF(Tabla3[[#This Row],[Línea estratégica]]="","",#REF!) -> #REF! | E35: =IF(Tabla3[[#This Row],[Línea estratégica]]="","",#REF!) -> #REF! | F35: =IF(Tabla3[[#This Row],[Línea estratégica]]="","",#REF!) -> #REF! | G35: Le.1 - Fortalecer las capacidades gestoras institucionales del SNS a través de la implementación del Modelo de Gestión, del desarrollo de su organización funcional y de las capacidades e instrumentos necesarios en cada ámbito de gestión | H35: =IFERROR(VLOOKUP(Tabla3[[#This Row],[Línea estratégica]],Obj!$B$57:$C$90,2,FALSE),"") -> Le.1 | I35: Obj1.6 - Fortalecer los sistemas de información existentes en todos los niveles del SNS para apoyar la gestión para resultados | J35: =IFERROR(VLOOKUP($I35,Obj!$D$132:$E$147,2,FALSE),"") -> Obj1.6 | K35: Sistemas de información digitales estandarizados, que permita el flujo de información entre niveles y facilite la toma de decisiones desarrollados e implementados | L35: 1.6.4.4 Personal de estadistica capacitado | M35: porcentaje de personal capacitado | N35: personal estadistico | O35: 0.5 | P35: 1 | V35: Enc. Del Sistema de informacion.
B36: Automatización Tecnológica | C36: =IF(Tabla3[[#This Row],[Línea estratégica]]="","",#REF!) -> #REF! | D36: =IF(Tabla3[[#This Row],[Línea estratégica]]="","",#REF!) -> #REF! | E36: =IF(Tabla3[[#This Row],[Línea estratégica]]="","",#REF!) -> #REF! | F36: =IF(Tabla3[[#This Row],[Línea estratégica]]="","",#REF!) -> #REF! | G36: Le.1 - Fortalecer las capacidades gestoras institucionales del SNS a través de la implementación del Modelo de Gestión, del desarrollo de su organización funcional y de las capacidades e instrumentos necesarios en cada ámbito de gestión | H36: =IFERROR(VLOOKUP(Tabla3[[#This Row],[Línea estratégica]],Obj!$B$57:$C$90,2,FALSE),"") -> Le.1 | I36: Obj1.6 - Fortalecer los sistemas de información existentes en todos los niveles del SNS para apoyar la gestión para resultados | J36: =IFERROR(VLOOKUP($I36,Obj!$D$132:$E$147,2,FALSE),"") -> Obj1.6 | K36: Adecuada infraestructura tecnología para dar respuestas a las demandas de los usuarios del nivel central del SNS | L36: 1.6.1.1 Fortalecimiento de la estructura tecnológica de la Red del SNS. | M36: Porcentaje de respuesta de solicitudes de servicios TIC | N36: porcentaje | O36: 0 | P36: 0.5 | V36: Enc. De tecnologia
B37: Automatización Tecnológica | C37: =IF(Tabla3[[#This Row],[Línea estratégica]]="","",#REF!) -> #REF! | D37: =IF(Tabla3[[#This Row],[Línea estratégica]]="","",#REF!) -> #REF! | E37: =IF(Tabla3[[#This Row],[Línea estratégica]]="","",#REF!) -> #REF! | F37: =IF(Tabla3[[#This Row],[Línea estratégica]]="","",#REF!) -> #REF! | G37: Le.1 - Fortalecer las capacidades gestoras institucionales del SNS a través de la implementación del Modelo de Gestión, del desarrollo de su organización funcional y de las capacidades e instrumentos necesarios en cada ámbito de gestión | H37: =IFERROR(VLOOKUP(Tabla3[[#This Row],[Línea estratégica]],Obj!$B$57:$C$90,2,FALSE),"") -> Le.1 | I37: Obj1.6 - Fortalecer los sistemas de información existentes en todos los niveles del SNS para apoyar la gestión para resultados | J37: =IFERROR(VLOOKUP($I37,Obj!$D$132:$E$147,2,FALSE),"") -> Obj1.6 | K37: Sistemas de información digitales estandarizados, que permita el flujo de información entre niveles y facilite la toma de decisiones desarrollados e implementados | L37: 1.6.4.1 Sistema del EIS implementado con un registro minimo de un 20% | M37: CEAS con EIS implementado que tienen un registro minimo de 20% | N37: Porcentaje | O37: 0 | P37: 0.5 | V37: Hospitales
B38: Automatización Tecnológica | C38: =IF(Tabla3[[#This Row],[Línea estratégica]]="","",#REF!) -> #REF! | D38: =IF(Tabla3[[#This Row],[Línea estratégica]]="","",#REF!) -> #REF! | E38: =IF(Tabla3[[#This Row],[Línea estratégica]]="","",#REF!) -> #REF! | F38: =IF(Tabla3[[#This Row],[Línea estratégica]]="","",#REF!) -> #REF! | G38: Le.1 - Fortalecer las capacidades gestoras institucionales del SNS a través de la implementación del Modelo de Gestión, del desarrollo de su organización funcional y de las capacidades e instrumentos necesarios en cada ámbito de gestión | H38: =IFERROR(VLOOKUP(Tabla3[[#This Row],[Línea estratégica]],Obj!$B$57:$C$90,2,FALSE),"") -> Le.1 | I38: Obj1.6 - Fortalecer los sistemas de información existentes en todos los niveles del SNS para apoyar la gestión para resultados | J38: =IFERROR(VLOOKUP($I38,Obj!$D$132:$E$147,2,FALSE),"") -> Obj1.6 | K38: Sistemas de información digitales estandarizados, que permita el flujo de información entre niveles y facilite la toma de decisiones desarrollados e implementados | L38: 1.6.4.2 Programa de Gestion Cita | M38: Total de CEAS con programa de gestion de citas implementado | N38: Porcentaje | O38: 0 | P38: 0.5 | V38: Hospitales
B39: Transparencia Institucional | C39: =IF(Tabla3[[#This Row],[Línea estratégica]]="","",#REF!) -> #REF! | D39: =IF(Tabla3[[#This Row],[Línea estratégica]]="","",#REF!) -> #REF! | E39: =IF(Tabla3[[#This Row],[Línea estratégica]]="","",#REF!) -> #REF! | F39: =IF(Tabla3[[#This Row],[Línea estratégica]]="","",#REF!) -> #REF! | G39: Le.1 - Fortalecer las capacidades gestoras institucionales del SNS a través de la implementación del Modelo de Gestión, del desarrollo de su organización funcional y de las capacidades e instrumentos necesarios en cada ámbito de gestión | H39: =IFERROR(VLOOKUP(Tabla3[[#This Row],[Línea estratégica]],Obj!$B$57:$C$90,2,FALSE),"") -> Le.1 | I39: Obj1.7 - Fortalecer el componente de comunicación interna y externa en la institución | J39: =IFERROR(VLOOKUP($I39,Obj!$D$132:$E$147,2,FALSE),"") -> Obj1.7 | K39: Implementado un Plan de Comunicación Interna y externa que facilite el flujo de información oportuna y de calidad en todos los niveles | L39: 1.7.1.1 Despliegue del Plan de Comunicación Estratégica (Interna y Externa) con los canales jerárquicos definidos en el nivel central del SNS. | M39: Nivel de implementación del Plan de Comunicación Estratégica | N39: Porcentaje | O39: 1 | P39: 1 | V39: Comunicación Estratégica (CE)
B40: Desarrollo y Gestión de la Red de Servicios | C40: =IF(Tabla3[[#This Row],[Línea estratégica]]="","",#REF!) -> #REF! | D40: =IF(Tabla3[[#This Row],[Línea estratégica]]="","",#REF!) -> #REF! | E40: =IF(Tabla3[[#This Row],[Línea estratégica]]="","",#REF!) -> #REF! | F40: =IF(Tabla3[[#This Row],[Línea estratégica]]="","",#REF!) -> #REF! | G40: Le.1 - Fortalecer las capacidades gestoras institucionales del SNS a través de la implementación del Modelo de Gestión, del desarrollo de su organización funcional y de las capacidades e instrumentos necesarios en cada ámbito de gestión | H40: =IFERROR(VLOOKUP(Tabla3[[#This Row],[Línea estratégica]],Obj!$B$57:$C$90,2,FALSE),"") -> Le.1 | I40: Obj1.8 - Disponer de una red de establecimientos que cumpla los criterios de habilitación establecidos por el MSP | J40: =IFERROR(VLOOKUP($I40,Obj!$D$132:$E$147,2,FALSE),"") -> Obj1.8 | K40: Aumentados los establecimientos de salud que cumplen con los criterios de habilitación definidos por el MSP | L40: 1.8.1.1. Gestión de habilitación en los establecimientos de salud de la Red. | M40: Pocentaje de centros que cumplen con los criterios de habilitaciòn del MSP | N40: Porcentaje | O40: 0.5 | P40: 0.7 | V40: Calidad de los Servicio
B41: Desarrollo y Gestión de la Red de Servicios | C41: =IF(Tabla3[[#This Row],[Línea estratégica]]="","",#REF!) -> #REF! | D41: =IF(Tabla3[[#This Row],[Línea estratégica]]="","",#REF!) -> #REF! | E41: =IF(Tabla3[[#This Row],[Línea estratégica]]="","",#REF!) -> #REF! | F41: =IF(Tabla3[[#This Row],[Línea estratégica]]="","",#REF!) -> #REF! | G41: Le.1 - Fortalecer las capacidades gestoras institucionales del SNS a través de la implementación del Modelo de Gestión, del desarrollo de su organización funcional y de las capacidades e instrumentos necesarios en cada ámbito de gestión | H41: =IFERROR(VLOOKUP(Tabla3[[#This Row],[Línea estratégica]],Obj!$B$57:$C$90,2,FALSE),"") -> Le.1 | I41: Obj1.8 - Disponer de una red de establecimientos que cumpla los criterios de habilitación establecidos por el MSP | J41: =IFERROR(VLOOKUP($I41,Obj!$D$132:$E$147,2,FALSE),"") -> Obj1.8 | K41: Aumentados los establecimientos de salud que cumplen con los criterios de habilitación definidos por el MSP | L41: 1.8.1.2Calidad en la oferta de los servicios a través del cumplimiento de los protocolos clínicos y quirúrgicos. | M41: Porcentage de centros que cumplen con la implementacion de los protocolos clinicos quirurgicos. | N41: Porcentaje | O41: 0.5 | P41: 0.8 | V41: Calidad de los Servicio
B42: Desarrollo y Gestión de la Red de Servicios | C42: =IF(Tabla3[[#This Row],[Línea estratégica]]="","",#REF!) -> #REF! | D42: =IF(Tabla3[[#This Row],[Línea estratégica]]="","",#REF!) -> #REF! | E42: =IF(Tabla3[[#This Row],[Línea estratégica]]="","",#REF!) -> #REF! | F42: =IF(Tabla3[[#This Row],[Línea estratégica]]="","",#REF!) -> #REF! | G42: Le.1 - Fortalecer las capacidades gestoras institucionales del SNS a través de la implementación del Modelo de Gestión, del desarrollo de su organización funcional y de las capacidades e instrumentos necesarios en cada ámbito de gestión | H42: =IFERROR(VLOOKUP(Tabla3[[#This Row],[Línea estratégica]],Obj!$B$57:$C$90,2,FALSE),"") -> Le.1 | I42: Obj1.8 - Disponer de una red de establecimientos que cumpla los criterios de habilitación establecidos por el MSP | J42: =IFERROR(VLOOKUP($I42,Obj!$D$132:$E$147,2,FALSE),"") -> Obj1.8 | K42: Aumentados los establecimientos de salud que cumplen con los criterios de habilitación definidos por el MSP | L42: 1.8.1.1Adecuar las infraestructuras de los CPN y las UNAP, para facilitar un buen servicio. | M42: CPN habilitados según las normas del MSP | N42: CPN habilitados | V42: Infraestructura y Hosteleria
B43: Desarrollo y Gestión de la Red de Servicios | C43: =IF(Tabla3[[#This Row],[Línea estratégica]]="","",#REF!) -> #REF! | D43: =IF(Tabla3[[#This Row],[Línea estratégica]]="","",#REF!) -> #REF! | E43: =IF(Tabla3[[#This Row],[Línea estratégica]]="","",#REF!) -> #REF! | F43: =IF(Tabla3[[#This Row],[Línea estratégica]]="","",#REF!) -> #REF! | G43: Le.1 - Fortalecer las capacidades gestoras institucionales del SNS a través de la implementación del Modelo de Gestión, del desarrollo de su organización funcional y de las capacidades e instrumentos necesarios en cada ámbito de gestión | H43: =IFERROR(VLOOKUP(Tabla3[[#This Row],[Línea estratégica]],Obj!$B$57:$C$90,2,FALSE),"") -> Le.1 | I43: Obj1.8 - Disponer de una red de establecimientos que cumpla los criterios de habilitación establecidos por el MSP | J43: =IFERROR(VLOOKUP($I43,Obj!$D$132:$E$147,2,FALSE),"") -> Obj1.8 | K43: Aumentados los establecimientos de salud que cumplen con los criterios de habilitación definidos por el MSP | L43: 1.8.1.2.Diseñar un Sistema Integral de Manejo de Aguas Residuales Hospitalarios | M43: Hospitales con Sistema de Aguas Residuales en funcionamiento satisfactorio | N43: Hospitales | O43: 0 | P43: 0.5 | V43: Infraestructura y Hosteleria
...

Sheet Formulario PPGR2
H2: ='Formulario PPGR1'!H2 -> Servicio Nacional de Salud
H3: ='Formulario PPGR1'!H3 -> Dirección de Planificación y Desarrollo | AA3: =IF('Formulario PPGR1'!$N$3="SNS - Dirección Central","ls_Departamento","Ls_DepartamentosSRS") -> Ls_DepartamentosSRS
H5: Identificación de actividades
H6: ='Formulario PPGR1'!$N$3 -> R1 - SRS Valdesia
B8: ID_Dependendencia | C8: POA | D8: SRS | E8: AREA | F8: TIPO | G8: Productos | H8: Código | I8: Actividades Programables Presupuestables | J8: Ene | K8: Feb | L8: Mar | M8: Abr | N8: May | O8: Jun | P8: Jul | Q8: Ago | R8: Sep | S8: Oct | T8: Nov | U8: Dic | V8: Total de Acciones | W8: Medio de Verificación 1 | X8: Medio de Verificación 2 | Y8: Medio de Verificación 3 | Z8: Observaciones | AA8: Responsable
B9: =IF(Tabla2[[#This Row],[Productos ]]="","",CONCATENATE(Tabla2[[#This Row],[POA]],".",Tabla2[[#This Row],[SRS]],".",Tabla2[[#This Row],[AREA]],".",Tabla2[[#This Row],[TIPO]])) -> #REF! | C9: =IF(Tabla2[[#This Row],[Productos ]]="","",'Formulario PPGR1'!#REF!) -> #REF! | D9: =IF(Tabla2[[#This Row],[Productos ]]="","",'Formulario PPGR1'!#REF!) -> #REF! | E9: =IF(Tabla2[[#This Row],[Productos ]]="","",'Formulario PPGR1'!#REF!) -> #REF! | F9: =IF(Tabla2[[#This Row],[Productos ]]="","",'Formulario PPGR1'!#REF!) -> #REF! | G9: 1.1.3. 1. Fortalecimiento de la Planificación Institucional | H9: SRSV.1.1.3.1.01 | I9: Elaboración del POA 2021 | O9: 1 | V9: =IF(SUM(Tabla2[[#This Row],[Ene]:[Dic]])=0,"",SUM(Tabla2[[#This Row],[Ene]:[Dic]])) -> 1 | W9: Plan | Z9: POA elaborado | AA9: Planificación y Desarrollo
B10: =IF(Tabla2[[#This Row],[Productos ]]="","",CONCATENATE(Tabla2[[#This Row],[POA]],".",Tabla2[[#This Row],[SRS]],".",Tabla2[[#This Row],[AREA]],".",Tabla2[[#This Row],[TIPO]])) -> #REF! | C10: =IF(Tabla2[[#This Row],[Productos ]]="","",'Formulario PPGR1'!#REF!) -> #REF! | D10: =IF(Tabla2[[#This Row],[Productos ]]="","",'Formulario PPGR1'!#REF!) -> #REF! | E10: =IF(Tabla2[[#This Row],[Productos ]]="","",'Formulario PPGR1'!#REF!) -> #REF! | F10: =IF(Tabla2[[#This Row],[Productos ]]="","",'Formulario PPGR1'!#REF!) -> #REF! | G10: 1.1.3. 1. Fortalecimiento de la Planificación Institucional | H10: SRSV.1.1.3.1.02 | I10: Elaboración de la Memoria Institucional 2020 | T10: 1 | V10: =IF(SUM(Tabla2[[#This Row],[Ene]:[Dic]])=0,"",SUM(Tabla2[[#This Row],[Ene]:[Dic]])) -> 1 | W10: Memoria | X10: Informe | AA10: Planificación y Desarrollo
B11: =IF(Tabla2[[#This Row],[Productos ]]="","",CONCATENATE(Tabla2[[#This Row],[POA]],".",Tabla2[[#This Row],[SRS]],".",Tabla2[[#This Row],[AREA]],".",Tabla2[[#This Row],[TIPO]])) -> #REF! | C11: =IF(Tabla2[[#This Row],[Productos ]]="","",'Formulario PPGR1'!#REF!) -> #REF! | D11: =IF(Tabla2[[#This Row],[Productos ]]="","",'Formulario PPGR1'!#REF!) -> #REF! | E11: =IF(Tabla2[[#This Row],[Productos ]]="","",'Formulario PPGR1'!#REF!) -> #REF! | F11: =IF(Tabla2[[#This Row],[Productos ]]="","",'Formulario PPGR1'!#REF!) -> #REF! | G11: 1.1.3.1 Fortalecimiento de la Planificación Institucional | H11: SRSV1.1.3.1.01 | I11: Elaboración del PACC 2021 | O11: 1 | V11: =IF(SUM(Tabla2[[#This Row],[Ene]:[Dic]])=0,"",SUM(Tabla2[[#This Row],[Ene]:[Dic]])) -> 1 | W11: Plan | AA11: Administrativa-Financiera
B12: =IF(Tabla2[[#This Row],[Productos ]]="","",CONCATENATE(Tabla2[[#This Row],[POA]],".",Tabla2[[#This Row],[SRS]],".",Tabla2[[#This Row],[AREA]],".",Tabla2[[#This Row],[TIPO]])) -> #REF! | C12: =IF(Tabla2[[#This Row],[Productos ]]="","",'Formulario PPGR1'!#REF!) -> #REF! | D12: =IF(Tabla2[[#This Row],[Productos ]]="","",'Formulario PPGR1'!#REF!) -> #REF! | E12: =IF(Tabla2[[#This Row],[Productos ]]="","",'Formulario PPGR1'!#REF!) -> #REF! | F12: =IF(Tabla2[[#This Row],[Productos ]]="","",'Formulario PPGR1'!#REF!) -> #REF! | G12: 1.1.3. 1. Fortalecimiento de la Planificación Institucional | H12: SRSV.1.1.3.1.03 | I12: Levantamiento de los proyectos de cooperacion finalizados en el 2019 y en ejecucion | L12: 1 | V12: =IF(SUM(Tabla2[[#This Row],[Ene]:[Dic]])=0,"",SUM(Tabla2[[#This Row],[Ene]:[Dic]])) -> 1 | W12: Informe | AA12: Planificación y Desarrollo
B13: =IF(Tabla2[[#This Row],[Productos ]]="","",CONCATENATE(Tabla2[[#This Row],[POA]],".",Tabla2[[#This Row],[SRS]],".",Tabla2[[#This Row],[AREA]],".",Tabla2[[#This Row],[TIPO]])) -> #REF! | C13: =IF(Tabla2[[#This Row],[Productos ]]="","",'Formulario PPGR1'!#REF!) -> #REF! | D13: =IF(Tabla2[[#This Row],[Productos ]]="","",'Formulario PPGR1'!#REF!) -> #REF! | E13: =IF(Tabla2[[#This Row],[Productos ]]="","",'Formulario PPGR1'!#REF!) -> #REF! | F13: =IF(Tabla2[[#This Row],[Productos ]]="","",'Formulario PPGR1'!#REF!) -> #REF! | G13: 1.1.3. 1. Fortalecimiento de la Planificación Institucional | H13: SRSV.1.1.3.1.04 | I13: Seguimiento a la implementacion del modelo de Gestion. | L13: 1 | P13: 1 | V13: =IF(SUM(Tabla2[[#This Row],[Ene]:[Dic]])=0,"",SUM(Tabla2[[#This Row],[Ene]:[Dic]])) -> 2 | W13: Informe | AA13: Planificación y Desarrollo
B14: =IF(Tabla2[[#This Row],[Productos ]]="","",CONCATENATE(Tabla2[[#This Row],[POA]],".",Tabla2[[#This Row],[SRS]],".",Tabla2[[#This Row],[AREA]],".",Tabla2[[#This Row],[TIPO]])) -> #REF! | C14: =IF(Tabla2[[#This Row],[Productos ]]="","",'Formulario PPGR1'!#REF!) -> #REF! | D14: =IF(Tabla2[[#This Row],[Productos ]]="","",'Formulario PPGR1'!#REF!) -> #REF! | E14: =IF(Tabla2[[#This Row],[Productos ]]="","",'Formulario PPGR1'!#REF!) -> #REF! | F14: =IF(Tabla2[[#This Row],[Productos ]]="","",'Formulario PPGR1'!#REF!) -> #REF! | G14: 1.1.3.2. Gestión documental de procesos institucionales | H14: SRSV.1.1.3.2.01 | I14: Reunión de socialización para el Levantamiento de procesos institucionales priorizados | L14: 1 | P14: 1 | S14: 1 | V14: =IF(SUM(Tabla2[[#This Row],[Ene]:[Dic]])=0,"",SUM(Tabla2[[#This Row],[Ene]:[Dic]])) -> 3 | W14: Informe | Z14: Calidad Institucional | AA14: Planificación y Desarrollo
B15: =IF(Tabla2[[#This Row],[Productos ]]="","",CONCATENATE(Tabla2[[#This Row],[POA]],".",Tabla2[[#This Row],[SRS]],".",Tabla2[[#This Row],[AREA]],".",Tabla2[[#This Row],[TIPO]])) -> #REF! | C15: =IF(Tabla2[[#This Row],[Productos ]]="","",'Formulario PPGR1'!#REF!) -> #REF! | D15: =IF(Tabla2[[#This Row],[Productos ]]="","",'Formulario PPGR1'!#REF!) -> #REF! | E15: =IF(Tabla2[[#This Row],[Productos ]]="","",'Formulario PPGR1'!#REF!) -> #REF! | F15: =IF(Tabla2[[#This Row],[Productos ]]="","",'Formulario PPGR1'!#REF!) -> #REF! | G15: 1.1.3.3. Modelo de Gestión de Calidad Intitucional | H15: SRSV.1.1.3.1.01 | I15: Reunión de seguimiento a los planes de mejora producto del informe de retorno y las auditorías de calidad del CAF | L15: 1 | O15: 1 | R15: 1 | U15: 1 | V15: =IF(SUM(Tabla2[[#This Row],[Ene]:[Dic]])=0,"",SUM(Tabla2[[#This Row],[Ene]:[Dic]])) -> 4 | W15: Informe | X15: Listado de participación | Z15: Calidad Institucional | AA15: Planificación y Desarrollo
B16: =IF(Tabla2[[#This Row],[Productos ]]="","",CONCATENATE(Tabla2[[#This Row],[POA]],".",Tabla2[[#This Row],[SRS]],".",Tabla2[[#This Row],[AREA]],".",Tabla2[[#This Row],[TIPO]])) -> #REF! | C16: =IF(Tabla2[[#This Row],[Productos ]]="","",'Formulario PPGR1'!#REF!) -> #REF! | D16: =IF(Tabla2[[#This Row],[Productos ]]="","",'Formulario PPGR1'!#REF!) -> #REF! | E16: =IF(Tabla2[[#This Row],[Productos ]]="","",'Formulario PPGR1'!#REF!) -> #REF! | F16: =IF(Tabla2[[#This Row],[Productos ]]="","",'Formulario PPGR1'!#REF!) -> #REF! | G16: 1.1.3.3. Modelo de Gestión de Calidad Intitucional | H16: SRSV.1.1.3.1.02 | I16: Sesiones de trabajo comité de calidad | L16: 1 | O16: 1 | R16: 1 | U16: 1 | V16: =IF(SUM(Tabla2[[#This Row],[Ene]:[Dic]])=0,"",SUM(Tabla2[[#This Row],[Ene]:[Dic]])) -> 4 | W16: Informe | Z16: Calidad Institucional | AA16: Planificación y Desarrollo
B17: =IF(Tabla2[[#This Row],[Productos ]]="","",CONCATENATE(Tabla2[[#This Row],[POA]],".",Tabla2[[#This Row],[SRS]],".",Tabla2[[#This Row],[AREA]],".",Tabla2[[#This Row],[TIPO]])) -> #REF! | C17: =IF(Tabla2[[#This Row],[Productos ]]="","",'Formulario PPGR1'!#REF!) -> #REF! | D17: =IF(Tabla2[[#This Row],[Productos ]]="","",'Formulario PPGR1'!#REF!) -> #REF! | E17: =IF(Tabla2[[#This Row],[Productos ]]="","",'Formulario PPGR1'!#REF!) -> #REF! | F17: =IF(Tabla2[[#This Row],[Productos ]]="","",'Formulario PPGR1'!#REF!) -> #REF! | G17: 1.1.3.1. Modelo de Gestión de Calidad Intitucional | H17: SRSV.1.1.3.103 | I17: Monitoreo Indicadores SISMAP Hospitalario | L17: 1 | O17: 1 | R17: 1 | U17: 1 | V17: =IF(SUM(Tabla2[[#This Row],[Ene]:[Dic]])=0,"",SUM(Tabla2[[#This Row],[Ene]:[Dic]])) -> 4 | W17: Informe | Z17: Calidad Institucional | AA17: Planificación y Desarrollo
B18: =IF(Tabla2[[#This Row],[Productos ]]="","",CONCATENATE(Tabla2[[#This Row],[POA]],".",Tabla2[[#This Row],[SRS]],".",Tabla2[[#This Row],[AREA]],".",Tabla2[[#This Row],[TIPO]])) -> #REF! | C18: =IF(Tabla2[[#This Row],[Productos ]]="","",'Formulario PPGR1'!#REF!) -> #REF! | D18: =IF(Tabla2[[#This Row],[Productos ]]="","",'Formulario PPGR1'!#REF!) -> #REF! | E18: =IF(Tabla2[[#This Row],[Productos ]]="","",'Formulario PPGR1'!#REF!) -> #REF! | F18: =IF(Tabla2[[#This Row],[Productos ]]="","",'Formulario PPGR1'!#REF!) -> #REF! | G18: 1.1.3.3. Modelo de Gestión de Calidad Intitucional | H18: SRSV.1.1.3.1.04 | I18: Seguimiento a la implementación de CAF y Carta Compromiso Ciudadano en la Red | L18: 1 | O18: 1 | R18: 1 | U18: 1 | V18: =IF(SUM(Tabla2[[#This Row],[Ene]:[Dic]])=0,"",SUM(Tabla2[[#This Row],[Ene]:[Dic]])) -> 4 | W18: Informe | Z18: Calidad Institucional | AA18: Planificación y Desarrollo
